BEGIN:VCALENDAR
PRODID:NingEventWidget-v1
VERSION:2.0
METHOD:PUBLISH
BEGIN:VEVENT
UID:1791588:Event:170235
DTSTAMP:20260423T135518Z
SUMMARY:Blended Introduction to Musculoskeletal Ultrasound  (Online Co
 urse + Hands-On Workshop)
DESCRIPTION:The Blended Introduction to Musculoskeletal Ultrasound Cou
 rse is taught by leading MSK ultrasound experts. This program combines
  8 months access to a comprehensive online course and 2 full days of h
 ands on scanning designed to reinforce and improve scanning skills for
  introductory musculoskeletal ultrasound applications. The extensive h
 ands-on scanning workshops feature a 3:1 ratio with live models and in
 animate phantoms for a realistic training experience and to improve sc
 anning proficiency.\nObjectives\n\nIncrease knowledge and skills to pe
 rform ultrasound examinations (specific exams based on specialty track
  selected).\nDemonstrate appropriate scan techniques and protocols for
  performing ultrasound examinations.\nImprove scanning skills and incr
 ease diagnostic confidence.\nPerform examinations under supervised con
 ditions to help fulfill credentialing and/or individual certification 
 requirements\n\n \n\nTopics\n\nMSK Imaging Fundamentals\nShoulder\nEl
 bow\nHand & Wrist\nKnee\nAnkle & Foot\nHip\nSpine\nInjection Technique
 s\n\n\nFor more information visit https://community.radrounds.com/even
 ts/blended-introduction-to-musculoskeletal-ultrasound-online-course
DTSTART:20170927T110000Z
DTEND:20170928T210000Z
CATEGORIES:cme, conference
LOCATION:Gulfcoast Ultrasound Institute
WEBSITE:https://www.gcus.com/courses/about.asp?course=1122
URL:https://www.gcus.com/courses/about.asp?course=1122
CONTACT:17273634500
ORGANIZER:GCUS
ATTACH;FMTTYPE="image/jpeg":http://storage.ning.com/topology/rest/1.0/
 file/get/1044771769?profile=original
ATTENDEE;ROLE=REQ-PARTICIPANT;PARTSTAT=ACCEPTED;RSVP=TRUE;CN="Casey Gr
 een":https://community.radrounds.com/profile/JamesSalame
END:VEVENT
END:VCALENDAR
