BEGIN:VCALENDAR
PRODID:NingEventWidget-v1
VERSION:2.0
METHOD:PUBLISH
BEGIN:VEVENT
UID:1791588:Event:185359
DTSTAMP:20260421T143303Z
SUMMARY:Blended Introduction to Musculoskeletal Ultrasound
DESCRIPTION:Blended Introduction to Musculoskeletal Ultrasound Trainin
 g Course provides participants a comprehensive introduction to musculo
 skeletal ultrasound. These courses are taught by leading musculoskelet
 al ultrasound experts that incorporates fifteen (15) months access to 
 comprehensive online lectures and interactive case presentations throu
 gh an online course, plus a (2) Two Days (12 Hours) scan only workshop
  featuring a 3:1 faculty to participant hands-on scan ratio with live 
 models and phantoms. These courses are specifically designed for physi
 cians, sonographers and other medical professionals who need musculosk
 eletal ultrasound training. For the best ultrasound education experien
 ce, completion of the online course prior to hands on scanning is reco
 mmended.\n\nFor more information visit https://community.radrounds.com
 /events/blended-introduction-to-musculoskeletal-ultrasound-1
DTSTART:20190620T123000Z
DTEND:20190621T203000Z
CATEGORIES:blended, cme, course
LOCATION:Gulfcoast Ultrasound Institute
WEBSITE:https://www.gcus.com/
URL:https://www.gcus.com/
CONTACT:727-363-4500
ORGANIZER:Gulfcoast Ultrasound Institute, Inc
ATTACH;FMTTYPE="image/jpeg":https://storage.ning.com/topology/rest/1.0
 /file/get/309407445?profile=original
ATTENDEE;ROLE=REQ-PARTICIPANT;PARTSTAT=ACCEPTED;RSVP=TRUE;CN="Casey Gr
 een":https://community.radrounds.com/profile/JamesSalame
END:VEVENT
END:VCALENDAR
