BEGIN:VCALENDAR
PRODID:NingEventWidget-v1
VERSION:2.0
METHOD:PUBLISH
BEGIN:VEVENT
UID:1791588:Event:178014
DTSTAMP:20260421T181950Z
SUMMARY:Blended Introduction to Emergency Medicine Ultrasound (Online 
 Course + Hands-On Workshop)
DESCRIPTION:The Blended Introduction to Emergency Ultrasound is taught
  by leading emergency ultrasound experts. This ultrasound training pro
 gram is designed to reinforce and improve scanning skills for emergenc
 y ultrasound applications. The online emergency ultrasound hands-on co
 urse/program gives you 15 months to access the course lectures in an o
 nline course format, combined with scanning live models and inanimate 
 phantoms, this course provides the perfect opportunity to improve your
  scanning proficiency.\n\nFor more information visit https://community
 .radrounds.com/events/blended-introduction-to-emergency-medicine-ultra
 sound
DTSTART:20180607T123000Z
DTEND:20180608T203000Z
CATEGORIES:live, seminar, webinar, online, course
LOCATION:Gulfcoast Ultrasound Institute
WEBSITE:https://www.gcus.com/
URL:https://www.gcus.com/
CONTACT:7273634500
ORGANIZER:Gulfcoast Ultrasound Institute, Inc
ATTACH;FMTTYPE="image/jpeg":http://storage.ning.com/topology/rest/1.0/
 file/get/1044771893?profile=original
ATTENDEE;ROLE=REQ-PARTICIPANT;PARTSTAT=ACCEPTED;RSVP=TRUE;CN="Casey Gr
 een":https://community.radrounds.com/profile/JamesSalame
END:VEVENT
END:VCALENDAR
