BEGIN:VCALENDAR
PRODID:NingEventWidget-v1
VERSION:2.0
METHOD:PUBLISH
BEGIN:VEVENT
UID:1791588:Event:185611
DTSTAMP:20260422T052452Z
SUMMARY:Blended Introduction to Emergency Medicine and Advanced Emerge
 ncy Medicine/Critical Care Ultrasound
DESCRIPTION:Blended Introduction to Emergency Medicine and Advanced Em
 ergency Medicine/Critical Care Ultrasound Course is intended for any m
 edical professional involved with performing emergency medicine, criti
 cal care, or point-of-care ultrasound examinations. The Blended Introd
 uction to Emergency Medicine and Advanced Emergency Medicine/Critical 
 Care Ultrasound Course is designed to provide a strong foundation to p
 erform the introduction and advanced ultrasound applications as outlin
 ed in the ACEP emergency ultrasound practice guidelines and WINFOCUS. 
 Taught by leading emergency medicine and critical care ultrasound facu
 lty, this self-directed course contains Two (2) Online Courses contain
 ing multiple modules and includes recommended reading assignments, onl
 ine video lectures, case presentations, and post-activity quizzes. Enr
 ollment is valid for fifteen (15) months for both online courses and b
 egins the moment the participant is enrolled in them. Combined with Tw
 o Days (12 Hours) of dedicated hands-on scanning at our facility in St
 . Petersburg, FL you will be scanning live models and inanimate phanto
 ms with a 3:1 participant to faculty scan ratio. After this course, pa
 rticipants will see a noticeable increase in diagnostic and scanning s
 kills and immediately be able to implement skills learned into clinica
 l practice. For the best ultrasound education experience, completion o
 f the online course prior to hands on scanning is recommended.\n\nFor 
 more information visit https://community.radrounds.com/events/blended-
 introduction-to-emergency-medicine-and-advanced-emergency
DTSTART:20190520T123000Z
DTEND:20190521T203000Z
CATEGORIES:blended, cme, course
LOCATION:Gulfcoast Ultrasound Institute
WEBSITE:https://www.gcus.com/
URL:https://www.gcus.com/
CONTACT:727-363-4500
ORGANIZER:Gulfcoast Ultrasound Institute, Inc
ATTACH;FMTTYPE="image/jpeg":https://storage.ning.com/topology/rest/1.0
 /file/get/309284110?profile=original
ATTENDEE;ROLE=REQ-PARTICIPANT;PARTSTAT=ACCEPTED;RSVP=TRUE;CN="Casey Gr
 een":https://community.radrounds.com/profile/JamesSalame
END:VEVENT
END:VCALENDAR
