BEGIN:VCALENDAR
PRODID:NingEventWidget-v1
VERSION:2.0
METHOD:PUBLISH
BEGIN:VEVENT
UID:1791588:Event:178116
DTSTAMP:20260421T181940Z
SUMMARY:Blended Introduction to Critical Care Ultrasound (Online Cours
 e + Hands-On Workshop)
DESCRIPTION:The Blended Introduction to Critical Care Ultrasound cours
 e is taught by leading emergency ultrasound experts. This ultrasound t
 raining program is designed to reinforce and improve scanning skills f
 or critical care ultrasound applications. The online critical care dop
 pler ultrasound hands-on course/program gives you 15 months to access 
 the course lectures in an online course format, combined with scanning
  live models and inanimate phantoms, this course provides the perfect 
 opportunity to improve your scanning proficiency.\n\nFor more informat
 ion visit https://community.radrounds.com/events/blended-introduction-
 to-critical-care-ultrasound
DTSTART:20180607T123000Z
DTEND:20180608T203000Z
CATEGORIES:live, seminar, webinar, online, course
LOCATION:Gulfcoast Ultrasound Institute
WEBSITE:https://www.gcus.com/
URL:https://www.gcus.com/
CONTACT:7273634500
ORGANIZER:Gulfcoast Ultrasound Institute, Inc
ATTACH;FMTTYPE="image/jpeg":http://storage.ning.com/topology/rest/1.0/
 file/get/1044771968?profile=original
ATTENDEE;ROLE=REQ-PARTICIPANT;PARTSTAT=ACCEPTED;RSVP=TRUE;CN="Casey Gr
 een":https://community.radrounds.com/profile/JamesSalame
END:VEVENT
END:VCALENDAR
