BEGIN:VCALENDAR
PRODID:NingEventWidget-v1
VERSION:2.0
METHOD:PUBLISH
BEGIN:VEVENT
UID:1791588:Event:185437
DTSTAMP:20260422T085319Z
SUMMARY:Blended Introduction to Critical Care Ultrasound
DESCRIPTION:Blended Introduction to Critical Care Ultrasound Training 
 Course provides participants a strong foundation to perform the core c
 ritical care ultrasound applications as outlined in the WINFOCUS and A
 CEP practice guidelines. These courses are taught by leading critical 
 care ultrasound experts that incorporates comprehensive online lecture
 s and interactive case presentations with fifteen (15) months unlimite
 d access, featuring a (1) One Day (6 Hours) of 3:1 faculty to particip
 ant hands-on scanning with live models and phantoms during the all day
  scan-only workshop at our facility in St. Petersburg, FL. The Blended
  Introduction to Critical Care Ultrasound Training is specifically des
 igned for physicians, sonographers and other medical professionals who
  need critical care ultrasound training. For the best ultrasound educa
 tion experience, completion of the online course prior to hands on sca
 nning is recommended.\n\nFor more information visit https://community.
 radrounds.com/events/blended-introduction-to-critical-care-ultrasound-
 1
DTSTART:20190520T123000Z
DTEND:20190520T203000Z
CATEGORIES:live, cme, seminar
LOCATION:Gulfcoast Ultrasound Institute
WEBSITE:https://www.gcus.com/
URL:https://www.gcus.com/
CONTACT:727-363-4500
ORGANIZER:Gulfcoast Ultrasound Institute, Inc
ATTACH;FMTTYPE="image/jpeg":https://storage.ning.com/topology/rest/1.0
 /file/get/309217603?profile=original
ATTENDEE;ROLE=REQ-PARTICIPANT;PARTSTAT=ACCEPTED;RSVP=TRUE;CN="Casey Gr
 een":https://community.radrounds.com/profile/JamesSalame
END:VEVENT
END:VCALENDAR
