BEGIN:VCALENDAR
PRODID:NingEventWidget-v1
VERSION:2.0
METHOD:PUBLISH
BEGIN:VEVENT
UID:1791588:Event:185601
DTSTAMP:20260422T133229Z
SUMMARY:Blended Introduction to Carotid Duplex/Color Ultrasound
DESCRIPTION:Blended Introduction to Carotid Duplex/Color Ultrasound Co
 urse will give you a strong foundation in order to begin performing an
 d/or interpreting Carotid Ultrasound Examinations. This vascular ultra
 sound hands-on course/program includes 15 months access to a comprehen
 sive online course combined with an extensive (1) One Day (6 Hours) Ha
 nds On Scanning Workshop. The hands-on scan workshop features our indu
 stry leading 3:1 participant to faculty scan ratio with live models. F
 or the best ultrasound education experience, completion of the online 
 course prior to hands on scanning is recommended.\n\nFor more informat
 ion visit https://community.radrounds.com/events/blended-introduction-
 to-carotid-duplex-color-ultrasound
DTSTART:20190516T123000Z
DTEND:20190516T203000Z
CATEGORIES:live, cme, seminar
LOCATION:Gulfcoast Ultrasound Institute
WEBSITE:https://www.gcus.com/
URL:https://www.gcus.com/
CONTACT:727-363-4500
ORGANIZER:Gulfcoast Ultrasound Institute, Inc
ATTACH;FMTTYPE="image/jpeg":https://storage.ning.com/topology/rest/1.0
 /file/get/308675925?profile=original
ATTENDEE;ROLE=REQ-PARTICIPANT;PARTSTAT=ACCEPTED;RSVP=TRUE;CN="Casey Gr
 een":https://community.radrounds.com/profile/JamesSalame
END:VEVENT
END:VCALENDAR
