BEGIN:VCALENDAR
PRODID:NingEventWidget-v1
VERSION:2.0
METHOD:PUBLISH
BEGIN:VEVENT
UID:1791588:Event:196490
DTSTAMP:20260421T045035Z
SUMMARY:Blended Introduction to Carotid Duplex/Color Ultrasound
DESCRIPTION:Blended Introduction to Carotid Duplex/Color Ultrasound Co
 urse will give you a strong foundation in order to begin performing an
 d/or interpreting Carotid Ultrasound Examinations. This vascular ultra
 sound hands-on course/program includes 15 months access to a comprehen
 sive online course combined with an extensive (1) One Day (6 Hours) Ha
 nds On Scanning Workshop. The hands-on scan workshop features our indu
 stry leading 3:1 participant to faculty scan ratio with live models. F
 or the best ultrasound education experience, completion of the online 
 course prior to hands on scanning is recommended.Consider attending th
 e Combined Blended Carotid and Peripheral Vascular Duplex/Color Flow I
 maging program for the most comprehensive vascular ultrasound training
 . The combined program offers 2-days of hands-on scanning in conjuncti
 on with completing two separate online courses.\n\nFor more informatio
 n visit https://community.radrounds.com/events/blended-introduction-to
 -carotid-duplex-color-ultrasound-1
DTSTART:20200615T040000Z
DTEND:20200616T035900Z
CATEGORIES:combines, our, comprehensive, online, course, "&amp", one, 
 day, "(6", "hours)", of, live, scanning
LOCATION:St. Petersburg
WEBSITE:https://www.gcus.com/ultrasound/blended-course/blended-introdu
 ction-to-carotid-duplexcolor-ultrasound
URL:https://www.gcus.com/ultrasound/blended-course/blended-introductio
 n-to-carotid-duplexcolor-ultrasound
CONTACT:7273634500
ORGANIZER;CN="Casey Green":https://community.radrounds.com/profile/Jam
 esSalame
ATTACH;FMTTYPE="image/jpeg":
ATTENDEE;ROLE=REQ-PARTICIPANT;PARTSTAT=ACCEPTED;RSVP=TRUE;CN="Casey Gr
 een":https://community.radrounds.com/profile/JamesSalame
END:VEVENT
END:VCALENDAR
