BEGIN:VCALENDAR
PRODID:NingEventWidget-v1
VERSION:2.0
METHOD:PUBLISH
BEGIN:VEVENT
UID:1791588:Event:169956
DTSTAMP:20260420T084419Z
SUMMARY:Blended Introduction to Carotid Duplex/Color Flow Imaging  (On
 line Course + Hands-On Workshop)
DESCRIPTION:The Blended Introduction to Carotid Duplex/Color Flow Imag
 ing Course will give you a strong foundation in order to begin perform
 ing and/or interpreting Carotid Ultrasound Examinations. This course i
 ncludes 8 months access to a comprehensive online course combined with
  two full days of extensive hands on scanning in our scan only worksho
 p. The scanning workshop featuring a 3:1 ratio with live models and kn
 owledgeable hands on instructors.\nObjectives\n\nIncrease the particip
 ants’ knowledge to better perform Carotid Duplex/Color Flow Imaging 
 ultrasound examinations.\nApply knowledge of the anatomy/physiology of
  the cerebrovascular system into the Carotid Duplex examination.\nPerf
 orm routine scan protocols, and Doppler calculations in a complete car
 otid duplex/color examination.\nDifferentiate normal/abnormal spectral
  Doppler/color characteristics.\nPerform Intima-Media Thickness measur
 ements and evaluation and state the clinical significance as a screeni
 ng method for cardiovascular disease.\n\n \n\nTopics\n\nDoppler & Col
 or Fundamentals\nCarotid Anatomy & Physiology\nNormal Spectral Analysi
 s\nCarotid Scan Protocol\nDisease Progression & Stenosis Assessment\nC
 arotid Imaging Pitfalls\nInteractive Case Studies\nEvaluation & Measur
 ement of Intima-Media Thickness\nCarotid Abnormalities\nHow to Structu
 re a Report\n\n\n\nFor more information visit https://community.radrou
 nds.com/events/blended-introduction-to-carotid-duplex-color-flow-imagi
 ng-online
DTSTART:20170209T120000Z
DTEND:20170210T220000Z
CATEGORIES:cme, conference, "(online", and, live, "hands-on)"
LOCATION:Gulfcoast Ultrasound Institute
WEBSITE:https://www.gcus.com/courses/about.asp?course=1108/Blended-Int
 roduction-to-Carotid-Duplex-Color-Flow-Imaging
URL:https://www.gcus.com/courses/about.asp?course=1108/Blended-Introdu
 ction-to-Carotid-Duplex-Color-Flow-Imaging
CONTACT:17273634500
ORGANIZER:GCUS
ATTACH;FMTTYPE="image/jpeg":http://storage.ning.com/topology/rest/1.0/
 file/get/1044769958?profile=original
ATTENDEE;ROLE=REQ-PARTICIPANT;PARTSTAT=ACCEPTED;RSVP=TRUE;CN="Casey Gr
 een":https://community.radrounds.com/profile/JamesSalame
END:VEVENT
END:VCALENDAR
