BEGIN:VCALENDAR
PRODID:NingEventWidget-v1
VERSION:2.0
METHOD:PUBLISH
BEGIN:VEVENT
UID:1791588:Event:169989
DTSTAMP:20260422T003014Z
SUMMARY:Blended Introduction to Carotid Duplex/Color Flow Imaging (Onl
 ine Course + Hands-On Workshop)
DESCRIPTION:The Blended Introduction to Carotid Duplex/Color Flow Imag
 ing Course will give you a strong foundation in order to begin perform
 ing and/or interpreting Carotid Ultrasound Examinations. This course i
 ncludes 8 months access to a comprehensive online course combined with
  an extensive 3 half day hands on scanning workshop. The scan workshop
  featuring a 3:1 ratio with live models and knowledgeable hands on ins
 tructors.\nObjectives\n\nIncrease the participants’ knowledge to bet
 ter perform Carotid Duplex/Color Flow Imaging ultrasound examinations.
 \nApply knowledge of the anatomy/physiology of the cerebrovascular sys
 tem into the Carotid Duplex examination.\nPerform routine scan protoco
 ls, and Doppler calculations in a complete carotid duplex/color examin
 ation.\nDifferentiate normal/abnormal spectral Doppler/color character
 istics.\nPerform Intima-Media Thickness measurements and evaluation an
 d state the clinical significance as a screening method for cardiovasc
 ular disease.\n\n \n\nTopics\n\nDoppler & Color Fundamentals\nCarotid
  Anatomy & Physiology\nNormal Spectral Analysis\nCarotid Scan Protocol
 \nDisease Progression & Stenosis Assessment\nCarotid Imaging Pitfalls\
 nInteractive Case Studies\nEvaluation & Measurement of Intima-Media Th
 ickness\nCarotid Abnormalities\nHow to Structure a Report\n\n\n\nFor m
 ore information visit https://community.radrounds.com/events/blended-i
 ntroduction-to-carotid-duplex-color-flow-imaging-onlin-2
DTSTART:20171023T110000Z
DTEND:20171025T210000Z
CATEGORIES:cme, conference
LOCATION:Gulfcoast Ultrasound Institute
WEBSITE:https://www.gcus.com/courses/about.asp?course=1105/Blended-Int
 roduction-to-Carotid-Duplex-Color-Flow-Imaging
URL:https://www.gcus.com/courses/about.asp?course=1105/Blended-Introdu
 ction-to-Carotid-Duplex-Color-Flow-Imaging
CONTACT:7273634500
ORGANIZER:Gulfcoast Ultrasound Institute, Inc
ATTACH;FMTTYPE="image/jpeg":http://storage.ning.com/topology/rest/1.0/
 file/get/1044771971?profile=original
ATTENDEE;ROLE=REQ-PARTICIPANT;PARTSTAT=ACCEPTED;RSVP=TRUE;CN="Casey Gr
 een":https://community.radrounds.com/profile/JamesSalame
END:VEVENT
END:VCALENDAR
