BEGIN:VCALENDAR
PRODID:NingEventWidget-v1
VERSION:2.0
METHOD:PUBLISH
BEGIN:VEVENT
UID:1791588:Event:170040
DTSTAMP:20260422T063248Z
SUMMARY:Blended Introduction to Carotid Duplex/Color Flow Imaging  (On
 line Course + Hands-On Workshop)
DESCRIPTION:Blended Introduction to Carotid Duplex/Color Flow ImagingÂ
  (Online Course + Hands-On Workshop)\nThe Blended Introduction to Caro
 tid Duplex/Color Flow Imaging Course will give you a strong foundation
  in order to begin performing and/or interpreting Carotid Ultrasound E
 xaminations. This course includes 8 months access to a comprehensive o
 nline course combined with an extensive 3 half day hands on scanning w
 orkshop. The scan workshop featuring a 3:1 ratio with live models and 
 knowledgeable hands on instructors.\nObjectives\n\nIncrease the partic
 ipantsâ€™ knowledge to better perform Carotid Duplex/Color Flow Imagin
 g ultrasound examinations.\nApply knowledge of the anatomy/physiology 
 of the cerebrovascular system into the Carotid Duplex examination.\nPe
 rform routine scan protocols, and Doppler calculations in a complete c
 arotid duplex/color examination.\nDifferentiate normal/abnormal spectr
 al Doppler/color characteristics.\nPerform Intima-Media Thickness meas
 urements and evaluation and state the clinical significance as a scree
 ning method for cardiovascular disease.\n\n\n\nTopics\n\nDoppler & Col
 or Fundamentals\nCarotid Anatomy & Physiology\nNormal Spectral Analysi
 s\nCarotid Scan Protocol\nDisease Progression & Stenosis Assessment\nC
 arotid Imaging Pitfalls\nInteractive Case Studies\nEvaluation & Measur
 ement of Intima-Media Thickness\nCarotid Abnormalities\nHow to Structu
 re a Report\n\n\n\nFor more information visit https://community.radrou
 nds.com/events/blended-introduction-to-carotid-duplex-color-flow-imagi
 ng-onlin-1
DTSTART:20170508T110000Z
DTEND:20170510T210000Z
CATEGORIES:cme, conference
LOCATION:Gulfcoast Ultrasound Institute
WEBSITE:https://www.gcus.com/courses/about.asp?course=1104/Blended-Int
 roduction-to-Carotid-Duplex-Color-Flow-Imaging
URL:https://www.gcus.com/courses/about.asp?course=1104/Blended-Introdu
 ction-to-Carotid-Duplex-Color-Flow-Imaging
CONTACT:17273634500
ORGANIZER:GCUS
ATTACH;FMTTYPE="image/jpeg":http://storage.ning.com/topology/rest/1.0/
 file/get/1044771808?profile=original
ATTENDEE;ROLE=REQ-PARTICIPANT;PARTSTAT=ACCEPTED;RSVP=TRUE;CN="Casey Gr
 een":https://community.radrounds.com/profile/JamesSalame
END:VEVENT
END:VCALENDAR
