BEGIN:VCALENDAR
PRODID:NingEventWidget-v1
VERSION:2.0
METHOD:PUBLISH
BEGIN:VEVENT
UID:1791588:Event:178020
DTSTAMP:20260424T145832Z
SUMMARY:Blended Introduction to Carotid Duplex/Color Flow Imaging (Onl
 ine Course + Hands-On Workshop)
DESCRIPTION:The Blended Introduction to Carotid Duplex/Color Flow Imag
 ing Course will give you a strong foundation in order to begin perform
 ing and/or interpreting Carotid Ultrasound Examinations. This hands-on
  course includes 15 months access to a comprehensive online course com
 bined with one full day of extensive hands on scanning in our scan onl
 y workshop. The scanning workshop featuring a 3:1 ratio with live mode
 ls and knowledgeable hands on instructors.\n\nFor more information vis
 it https://community.radrounds.com/events/blended-introduction-to-caro
 tid-duplex-color-flow-imaging-1
DTSTART:20180726T123000Z
DTEND:20180726T203000Z
CATEGORIES:live, seminar, webinar, online, course
LOCATION:Gulfcoast Ultrasound Institute
WEBSITE:https://www.gcus.com/
URL:https://www.gcus.com/
CONTACT:7273634500
ORGANIZER:Gulfcoast Ultrasound Institute, Inc
ATTACH;FMTTYPE="image/jpeg":http://storage.ning.com/topology/rest/1.0/
 file/get/1044771876?profile=original
ATTENDEE;ROLE=REQ-PARTICIPANT;PARTSTAT=ACCEPTED;RSVP=TRUE;CN="Casey Gr
 een":https://community.radrounds.com/profile/JamesSalame
END:VEVENT
END:VCALENDAR
