BEGIN:VCALENDAR
PRODID:NingEventWidget-v1
VERSION:2.0
METHOD:PUBLISH
BEGIN:VEVENT
UID:1791588:Event:178122
DTSTAMP:20260424T173534Z
SUMMARY:Blended Introduction to Adult Echocardiography (Online Course 
 + Hands-On Workshop)
DESCRIPTION:Our Blended Introduction to Adult Echocardiography course 
 is designed to provide a strong foundation to perform and/or interpret
  adult cardiac ultrasound examinations. The adult cardiography ultraso
 und hands-on course/program is taught by leading echocardiography expe
 rts and combines 15 months access to our online course of comprehensiv
 e lectures and 2 full days of hands on scanning workshops at our facil
 ity in St. Petersburg, Florida. The scan workshops feature a 3:1 hands
 -on ratio using live models for the most hands on scan time.\n\nFor mo
 re information visit https://community.radrounds.com/events/blended-in
 troduction-to-adult-echocardiography
DTSTART:20180726T123000Z
DTEND:20180727T203000Z
CATEGORIES:live, seminar, webinar, online, course
LOCATION:Gulfcoast Ultrasound Institute
WEBSITE:https://www.gcus.com/
URL:https://www.gcus.com/
CONTACT:7273634500
ORGANIZER:Gulfcoast Ultrasound Institute, Inc
ATTACH;FMTTYPE="image/jpeg":http://storage.ning.com/topology/rest/1.0/
 file/get/1044771974?profile=original
ATTENDEE;ROLE=REQ-PARTICIPANT;PARTSTAT=ACCEPTED;RSVP=TRUE;CN="Casey Gr
 een":https://community.radrounds.com/profile/JamesSalame
END:VEVENT
END:VCALENDAR
