BEGIN:VCALENDAR
PRODID:NingEventWidget-v1
VERSION:2.0
METHOD:PUBLISH
BEGIN:VEVENT
UID:1791588:Event:169891
DTSTAMP:20260420T120027Z
SUMMARY:Blended Introduction to Adult Echocardiography  (Online Course
  + Hands-On Workshop)
DESCRIPTION:Our Blended Introduction to Adult Echocardiography course 
 is designed to provide a strong foundation to perform and/or interpret
  adult cardiac ultrasound examinations. The program is taught by leadi
 ng echocardiography experts and combines 8 months access to our online
  course of comprehensive lectures and 2 full days of hands on scanning
  workshops at our facility in St. Pete Beach, Florida. The scan worksh
 ops feature a 3:1 hands-on ratio using live models for the most hands 
 on scan time.\nObjectives\n\nIncrease the participant’s knowledge to
  better perform and/or interpret Echocardiography examinations.\nDemon
 strate proper transducer manipulation and system optimization to produ
 ce diagnostic images (sonographer) and recognize potential imaging err
 ors (Physician).\nDemonstrate routine scan protocols to evaluate an ad
 ult patient using 2D/M-Mode/Color Flow & Doppler echocardiographic tec
 hniques and demonstrate appropriate measurements.\nIdentify normal/abn
 ormal characteristics of 2D cardiac anatomy and state the role of card
 iac Doppler and list the necessary qualitative/quantitative measuremen
 ts.\nIdentify the ultrasound findings associated with valvular heart d
 isease, cardiomyopathies, ischemic heart disease, pericardial disease 
 and cardiac masses.\nList the latest imaging techniques in quantificat
 ion of right and left ventricle wall motion. Document findings and app
 ly standardized guidelines during compilation of an Echocardiography w
 orksheet (sonographer) and dictated report (Physician).\nList the step
 s necessary for system optimization during contrast echo imaging.\nInc
 rease confidence to incorporate protocols, techniques & interpretation
  criteria to improve diagnostic/treatment accuracy.\n\n \n\nTopics\n\
 nImaging Fundamentals\nAnatomy of the Heart and EKG\n2D Evaluation of 
 Cardiac Anatomy, Measurements, and Normal Values\nParasternal and Supr
 asternal Windows\nApical and Subcostal Windows\nDoppler Fundamentals &
  Color Doppler\nPulsed & Continuous Wave Doppler\nMitral & Aortic Valv
 es (Evaluation & Disease)\nCardiomyopathies\nGross Anatomy Workshop\nR
 ight Heart Disease\nCoronary Heart Dieases\nDiastolic Function/Contras
 t Echocardiography\nPericardial Disease & Cardiac Masses\n\n\n\nFor mo
 re information visit https://community.radrounds.com/events/blended-in
 troduction-to-adult-echocardiography-online-course
DTSTART:20170209T120000Z
DTEND:20170210T220000Z
CATEGORIES:cme, conference, "(online", and, live, "hands-on)"
LOCATION:Gulfcoast Ultrasound Institute
WEBSITE:https://www.gcus.com/courses/about.asp?course=1111
URL:https://www.gcus.com/courses/about.asp?course=1111
CONTACT:17273634500
ORGANIZER:GCUS
ATTACH;FMTTYPE="image/jpeg":http://storage.ning.com/topology/rest/1.0/
 file/get/1044771742?profile=original
ATTENDEE;ROLE=REQ-PARTICIPANT;PARTSTAT=ACCEPTED;RSVP=TRUE;CN="Casey Gr
 een":https://community.radrounds.com/profile/JamesSalame
END:VEVENT
END:VCALENDAR
