BEGIN:VCALENDAR
PRODID:NingEventWidget-v1
VERSION:2.0
METHOD:PUBLISH
BEGIN:VEVENT
UID:1791588:Event:170074
DTSTAMP:20260420T090941Z
SUMMARY:Blended Introduction to Adult Echocardiography (Online Course 
 + Hands-On Workshop)
DESCRIPTION:Our Blended Introduction to Adult Echocardiography course 
 is designed to provide a strong foundation to perform and/or interpret
  adult cardiac ultrasound examinations. The program is taught by leadi
 ng echocardiography experts and combines 8 months access to our online
  course of comprehensive lectures and 5 half days of live scanning at 
 our facility in St. Pete Beach, Florida. The scan workshops feature a 
 3:1 hands-on ratio using live models for the most hands on scan time.\
 nObjectives\n\nIncrease the participant’s knowledge to better perfor
 m and/or interpret Echocardiography examinations.\nDemonstrate proper 
 transducer manipulation and system optimization to produce diagnostic 
 images (sonographer) and recognize potential imaging errors (Physician
 ).\nDemonstrate routine scan protocols to evaluate an adult patient us
 ing 2D/M-Mode/Color Flow & Doppler echocardiographic techniques and de
 monstrate appropriate measurements.\nIdentify normal/abnormal characte
 ristics of 2D cardiac anatomy and state the role of cardiac Doppler an
 d list the necessary qualitative/quantitative measurements.\nIdentify 
 the ultrasound findings associated with valvular heart disease, cardio
 myopathies, ischemic heart disease, pericardial disease and cardiac ma
 sses.\nList the latest imaging techniques in quantification of right a
 nd left ventricle wall motion. Document findings and apply standardize
 d guidelines during compilation of an Echocardiography worksheet (sono
 grapher) and dictated report (Physician).\nList the steps necessary fo
 r system optimization during contrast echo imaging.\nIncrease confiden
 ce to incorporate protocols, techniques & interpretation criteria to i
 mprove diagnostic/treatment accuracy.\n\n \n\nTopics\n\nImaging Funda
 mentals\nAnatomy of the Heart and EKG\n2D Evaluation of Cardiac Anatom
 y, Measurements, and Normal Values\nParasternal and Suprasternal Windo
 ws\nApical and Subcostal Windows\nDoppler Fundamentals & Color Doppler
 \nPulsed & Continuous Wave Doppler\nMitral & Aortic Valves (Evaluation
  & Disease)\nCardiomyopathies\nGross Anatomy Workshop\nRight Heart Dis
 ease\nCoronary Heart Dieases\nDiastolic Function/Contrast Echocardiogr
 aphy\nPericardial Disease & Cardiac Masses\n\n\nFor more information v
 isit https://community.radrounds.com/events/blended-introduction-to-ad
 ult-echocardiography-online-course-2
DTSTART:20171204T120000Z
DTEND:20171208T220000Z
CATEGORIES:cme, conference
LOCATION:Gulfcoast Ultrasound Institute
WEBSITE:https://www.gcus.com/courses/about.asp?course=1110
URL:https://www.gcus.com/courses/about.asp?course=1110
CONTACT:7273634500
ORGANIZER:Gulfcoast Ultrasound Institute, Inc
ATTACH;FMTTYPE="image/jpeg":http://storage.ning.com/topology/rest/1.0/
 file/get/1044773925?profile=original
ATTENDEE;ROLE=REQ-PARTICIPANT;PARTSTAT=ACCEPTED;RSVP=TRUE;CN="Casey Gr
 een":https://community.radrounds.com/profile/JamesSalame
END:VEVENT
END:VCALENDAR
