BEGIN:VCALENDAR
PRODID:NingEventWidget-v1
VERSION:2.0
METHOD:PUBLISH
BEGIN:VEVENT
UID:1791588:Event:185533
DTSTAMP:20260422T143920Z
SUMMARY:Blended Introduction to Adult Echocardiography
DESCRIPTION:Blended Introduction to Adult Echocardiography Course is d
 esigned to provide a strong foundation to perform and/or interpret adu
 lt cardiac ultrasound examinations. The Blended Introduction to Adult 
 Echocardiography Course is taught by leading echocardiography experts 
 and combines 15 months access to our online course of comprehensive le
 ctures and (2) Two Days (12 Hours) of live scanning at our facility in
  St. Petersburg, Florida. The scan workshops feature our industry lead
 ing 3:1 hands-on scan ratio using live models for the most comprehensi
 ve hands-on scan time. For the best ultrasound education experience, c
 ompletion of the online course prior to hands on scanning is recommend
 ed.\n\nFor more information visit https://community.radrounds.com/even
 ts/blended-introduction-to-adult-echocardiography-1
DTSTART:20190516T123000Z
DTEND:20190517T203000Z
CATEGORIES:blended, cme, course
LOCATION:Gulfcoast Ultrasound Institute
WEBSITE:https://www.gcus.com/
URL:https://www.gcus.com/
CONTACT:727-363-4500
ORGANIZER:Gulfcoast Ultrasound Institute, Inc
ATTACH;FMTTYPE="image/jpeg":https://storage.ning.com/topology/rest/1.0
 /file/get/308763827?profile=original
ATTENDEE;ROLE=REQ-PARTICIPANT;PARTSTAT=ACCEPTED;RSVP=TRUE;CN="Casey Gr
 een":https://community.radrounds.com/profile/JamesSalame
END:VEVENT
END:VCALENDAR
