BEGIN:VCALENDAR
PRODID:NingEventWidget-v1
VERSION:2.0
METHOD:PUBLISH
BEGIN:VEVENT
UID:1791588:Event:185433
DTSTAMP:20260425T183255Z
SUMMARY:Blended Introduction to Abdominal and Primary Care Ultrasound
DESCRIPTION:Blended Introduction to Abdominal and Primary Care Ultraso
 und Training Course covers abdominal, trauma, thyroid, scrotal, and so
 ft-tissue applications. This course is taught by leading abdominal & p
 rimary care ultrasound experts, that offers fifteen (15) months unlimi
 ted access to the online course, plus (1) one full day scan lab (6 Hou
 rs) with a 3:1 faculty to participant hands-on scan ratio at our facil
 ity in St. Petersburg, FL. For the best ultrasound education experienc
 e, completion of the online course prior to hands on scanning is recom
 mended.\n\nFor more information visit https://community.radrounds.com/
 events/blended-introduction-to-abdominal-and-primary-care-ultrasound-4
DTSTART:20190325T123000Z
DTEND:20190325T201500Z
CATEGORIES:blended, cme, course
LOCATION:Gulfcoast Ultrasound Institute
WEBSITE:https://www.gcus.com/
URL:https://www.gcus.com/
CONTACT:727-363-4500
ORGANIZER:Gulfcoast Ultrasound Institute, Inc
ATTACH;FMTTYPE="image/jpeg":https://storage.ning.com/topology/rest/1.0
 /file/get/308228964?profile=original
ATTENDEE;ROLE=REQ-PARTICIPANT;PARTSTAT=ACCEPTED;RSVP=TRUE;CN="Casey Gr
 een":https://community.radrounds.com/profile/JamesSalame
END:VEVENT
END:VCALENDAR
