BEGIN:VCALENDAR
PRODID:NingEventWidget-v1
VERSION:2.0
METHOD:PUBLISH
BEGIN:VEVENT
UID:1791588:Event:169992
DTSTAMP:20260421T075039Z
SUMMARY:Blended Introduction to Abdominal and Primary Care Ultrasound 
 (Online Course + Hands-On Workshop)
DESCRIPTION:The Blended Introduction to Abdominal & Primary Care Ultra
 sound training course is taught by leading experts and covers abdomina
 l, trauma, thyroid, scrotal, and soft-tissue applications. This unique
  course incorporates a comprehensive online course to cover the didact
 ics then three half day scanning only workshops, featuring a 3:1 ratio
  with live models and inanimate phantoms.\n\nObjectives\n\nIncrease pa
 rticipant’s knowledge to better perform and/or interpret abdominal u
 ltrasound examinations.\nDemonstrate proper transducer manipulation an
 d system optimization to produce diagnostic images.\nPerform scan prot
 ocols and routine measurements that are utilized during an abdominal u
 ltrasound evaluation.\nIdentify normal/abnormal imaging characteristic
 s of the liver, gallbladder, pancreas, spleen, kidneys and abdominal v
 asculature.\nDifferentiate normal/abnormal characteristics for the eva
 luation of the thyroid, testes/scrotum, and appendix.\n\n \n\nTopics\
 n\nImaging Fundamentals\nAbdominal Anatomy/Scan Techniques\nAbdominal 
 Aorta\nLiver Sonography & Pathology\nGallbladder & Biliary Tree Sonogr
 aphy & Pathology\nSpleen, Pancreas, and Renal\nScrotal / Testicular\nE
 valuation of the Appendix & GI Tract\nThyroid\nEFAST Exam, Soft Tissue
  & MSK Applications\nInteractive Case Studies\n\n\nFor more informatio
 n visit https://community.radrounds.com/events/blended-introduction-to
 -abdominal-and-primary-care-ultrasound-2
DTSTART:20171106T120000Z
DTEND:20171108T220000Z
CATEGORIES:cme, conference
LOCATION:Gulfcoast Ultrasound Institute
WEBSITE:https://www.gcus.com/courses/about.asp?course=1114/Blended-Int
 roduction-to-Abdominal-and-Primary-Care-Ultrasound
URL:https://www.gcus.com/courses/about.asp?course=1114/Blended-Introdu
 ction-to-Abdominal-and-Primary-Care-Ultrasound
CONTACT:7273634500
ORGANIZER:Gulfcoast Ultrasound Institute, Inc
ATTACH;FMTTYPE="image/jpeg":http://storage.ning.com/topology/rest/1.0/
 file/get/1044772065?profile=original
ATTENDEE;ROLE=REQ-PARTICIPANT;PARTSTAT=ACCEPTED;RSVP=TRUE;CN="Casey Gr
 een":https://community.radrounds.com/profile/JamesSalame
END:VEVENT
END:VCALENDAR
