BEGIN:VCALENDAR
PRODID:NingEventWidget-v1
VERSION:2.0
METHOD:PUBLISH
BEGIN:VEVENT
UID:1791588:Event:170049
DTSTAMP:20260421T045035Z
SUMMARY:Blended Introduction to Abdominal and Primary Care Ultrasound 
  (Online Course + Hands-On Workshop)
DESCRIPTION:Blended Introduction to Abdominal and Primary Care Ultraso
 und (Online Course + Hands-On Workshop)\nThe Blended Introduction to 
 Abdominal & Primary Care Ultrasound training course is taught by leadi
 ng experts and covers abdominal, trauma, thyroid, scrotal, and soft-ti
 ssue applications. This unique course incorporates a comprehensive onl
 ine course to cover the didactics then three half day scanning only wo
 rkshops, featuring a 3:1 ratio with live models and inanimate phantoms
 .\nObjectives\n\nIncrease participant’s knowledge to better perform 
 and/or interpret abdominal ultrasound examinations.\nDemonstrate prope
 r transducer manipulation and system optimization to produce diagnosti
 c images.\nPerform scan protocols and routine measurements that are ut
 ilized during an abdominal ultrasound evaluation.\nIdentify normal/abn
 ormal imaging characteristics of the liver, gallbladder, pancreas, spl
 een, kidneys and abdominal vasculature.\nDifferentiate normal/abnormal
  characteristics for the evaluation of the thyroid, testes/scrotum, an
 d appendix.\n\n\n\nTopics\n\nImaging Fundamentals\nAbdominal Anatomy/S
 can Techniques\nAbdominal Aorta\nLiver Sonography & Pathology\nGallbla
 dder & Biliary Tree Sonography & Pathology\nSpleen, Pancreas, and Rena
 l\nScrotal / Testicular\nEvaluation of the Appendix & GI Tract\nThyroi
 d\nEFAST Exam, Soft Tissue & MSK Applications\nInteractive Case Studie
 s\n\n\nFor more information visit https://community.radrounds.com/even
 ts/blended-introduction-to-abdominal-and-primary-care-ultrasound-1
DTSTART:20170605T110000Z
DTEND:20170607T210000Z
CATEGORIES:cme, conference
LOCATION:Gulfcoast Ultrasound Institute
WEBSITE:https://www.gcus.com/courses/about.asp?course=1113/Blended-Int
 roduction-to-Abdominal-and-Primary-Care-Ultrasound
URL:https://www.gcus.com/courses/about.asp?course=1113/Blended-Introdu
 ction-to-Abdominal-and-Primary-Care-Ultrasound
CONTACT:17273634500
ORGANIZER:GCUS
ATTACH;FMTTYPE="image/jpeg":http://storage.ning.com/topology/rest/1.0/
 file/get/1044771701?profile=original
ATTENDEE;ROLE=REQ-PARTICIPANT;PARTSTAT=ACCEPTED;RSVP=TRUE;CN="Casey Gr
 een":https://community.radrounds.com/profile/JamesSalame
END:VEVENT
END:VCALENDAR
