BEGIN:VCALENDAR
PRODID:NingEventWidget-v1
VERSION:2.0
METHOD:PUBLISH
BEGIN:VEVENT
UID:1791588:Event:160664
DTSTAMP:20260421T175613Z
SUMMARY:Blended Education: Introduction to Pediatric Emergency Online 
 Course and Pediatric Emergency & Critical Care Ultrasound with Two-Day
  - Hands-On Only Workshop
DESCRIPTION:This blended-education pediatric ultrasound course is desi
 gned to increase the participant’s knowledge and competence to perfo
 rm and interpret pediatric ultrasound examinations. This pediatric ul
 trasound blended-education program is taught by leading pediatric ultr
 asound experts and includes online lectures, case presentations, and e
 xtensive hands-on scanning, featuring a 3:1 ratio with live models and
  inanimate phantoms for a realistic training experience. The hybrid f
 ormat allows the participant to have access to the online pediatric ul
 trasound course for 6 months to provide the flexibility to complete th
 e lectures at ones’ convenience. Hands-on experience is provided by 
 attending a GCUS hands-on workshop at our education facility located o
 n St. Pete Beach, Florida. A customized onsite scanning workshop may a
 lso be scheduled for groups of 5 or more participants. The pediatric 
 ultrasound training is developed in accordance with the AIUM ultrasoun
 d guidelines. Topics include: ultrasound imaging fundamentals, trauma 
 ultrasound (FAST), evaluation of the urinary tract in infants & childr
 en, pediatric GI applications such as pyloric stenosis, intussusceptio
 n, and evaluation of appendix & bowel obstruction, soft-tissue, MSK ap
 plications, neonatal head sonography, evaluation of the pediatric spin
 e, hip, and more. Experience the Difference in Ultrasound Education!\
 n\nFor more information visit https://community.radrounds.com/events/b
 lended-education-introduction-to-pediatric-emergency-online
DTSTART:20150623T040000Z
DTEND:20150627T035900Z
CATEGORIES:ultrasound, cme, seminar
LOCATION:Gulfcoast Ultrasound Institute, Inc.
WEBSITE:https://www.gcus.com/courses/about.asp?course=899/Blended-Educ
 ation:-Introduction-to-Pediatric-Emergency-Online-Course-and-Pediatric
 -Emergency-and-Critical-Care-Ultrasound-with-Two-Day-Hands-On-Only-Wor
 kshop
URL:https://www.gcus.com/courses/about.asp?course=899/Blended-Educatio
 n:-Introduction-to-Pediatric-Emergency-Online-Course-and-Pediatric-Eme
 rgency-and-Critical-Care-Ultrasound-with-Two-Day-Hands-On-Only-Worksho
 p
CONTACT:800.619.1900
ORGANIZER;CN="Casey Green":https://community.radrounds.com/profile/Jam
 esSalame
ATTACH;FMTTYPE="image/jpeg":
ATTENDEE;ROLE=REQ-PARTICIPANT;PARTSTAT=ACCEPTED;RSVP=TRUE;CN="Casey Gr
 een":https://community.radrounds.com/profile/JamesSalame
END:VEVENT
END:VCALENDAR
