BEGIN:VCALENDAR
PRODID:NingEventWidget-v1
VERSION:2.0
METHOD:PUBLISH
BEGIN:VEVENT
UID:1791588:Event:185609
DTSTAMP:20260422T003233Z
SUMMARY:Blended Advanced Emergency/Critical Care Ultrasound
DESCRIPTION:Blended Advanced Emergency/Critical Care Ultrasound Course
  provides participants a strong foundation to perform the core critica
 l care ultrasound applications as outlined in the WINFOCUS and ACEP pr
 actice guidelines. This blended course combines the Introduction to Cr
 itical Care Ultrasound comprehensive online course featuring fifteen (
 15) months unlimited access to the video and interactive case presenta
 tion modules presented by leading industry experts, PLUS a (1) One Day
  (6 Hours) hands on workshop at our facility in St.Petersburg, FL. The
  hands-on workshop promises no larger than a 3:1 participant to instru
 ctor ratio for ample time actually performing the exams on live models
  as well as phantoms for practicing ultrasound-guided procedures. This
  blended course is specifically designed for physicians, sonographers 
 and other medical professionals who need critical care ultrasound trai
 ning. For the best ultrasound education experience, completion of the 
 online course prior to hands on scanning is recommended. *Please note,
  you must complete all modules within the online course to receive you
 r CME certificate and attend the hands-on workshop.\n\nFor more inform
 ation visit https://community.radrounds.com/events/blended-advanced-em
 ergency-critical-care-ultrasound
DTSTART:20190521T123000Z
DTEND:20190521T203000Z
CATEGORIES:blended, cme, course
LOCATION:Gulfcoast Ultrasound Institute
WEBSITE:https://www.gcus.com/
URL:https://www.gcus.com/
CONTACT:727-363-4500
ORGANIZER:Gulfcoast Ultrasound Institute, Inc
ATTACH;FMTTYPE="image/jpeg":https://storage.ning.com/topology/rest/1.0
 /file/get/308849043?profile=original
ATTENDEE;ROLE=REQ-PARTICIPANT;PARTSTAT=ACCEPTED;RSVP=TRUE;CN="Casey Gr
 een":https://community.radrounds.com/profile/JamesSalame
END:VEVENT
END:VCALENDAR
