BEGIN:VCALENDAR
PRODID:NingEventWidget-v1
VERSION:2.0
METHOD:PUBLISH
BEGIN:VEVENT
UID:1791588:Event:183363
DTSTAMP:20260424T223141Z
SUMMARY:Blazing the IT Trail in Medical Imaging (Live Webinar)
DESCRIPTION:Most technologists did not study information technology in
  their radiology program. From this course, you will gain an overall u
 nderstanding of how your Radiology Information System and your Hospita
 l Information System are able to communicate with your Digital Imaging
  Systems to obtain and store information. You’ll also gain a better 
 understand on DICOM, PACS and the work flow of a typical system.\n\nFo
 r more information visit https://community.radrounds.com/events/blazin
 g-the-it-trail-in-medical-imaging-live-webinar-1
DTSTART:20180820T170000Z
DTEND:20180820T190000Z
CATEGORIES:live, webinar
LOCATION:Advanced Health Education Center
WEBSITE:https://store.aheconline.com/
URL:https://store.aheconline.com/
CONTACT:800-239-1361
ORGANIZER;CN="Larry Carney":https://community.radrounds.com/profile/La
 rryCarney
ATTACH;FMTTYPE="image/jpeg":
ATTENDEE;ROLE=REQ-PARTICIPANT;PARTSTAT=ACCEPTED;RSVP=TRUE;CN="Larry Ca
 rney":https://community.radrounds.com/profile/LarryCarney
END:VEVENT
END:VCALENDAR
