BEGIN:VCALENDAR
PRODID:NingEventWidget-v1
VERSION:2.0
METHOD:PUBLISH
BEGIN:VEVENT
UID:1791588:Event:163003
DTSTAMP:20260422T004345Z
SUMMARY:BIR Annual Congress
DESCRIPTION:“Inspiring”, “a great experience” and “excellent
  variety” are just some of the comments from our Annual Congress in
  2014. We have built on this success and listened to your feedback to 
 produce an even better programme for 2015.\nDivided into two parallel
  sessions over 2 days, topics include radiation protection issues in m
 olecular imaging and radiotherapy, clinical hybrid imaging in oncolog
 y, primers for the non-specialist, emergency radiology—advances in 
 trauma imaging and essentials for the radiology trainee.\nOur Annual C
 ongress provides an open and relaxed environment for delegates to shar
 e and exchange ideas and experiences, visit our industry exhibition, 
 showcase their research via our interactive e-poster sessions, and ne
 twork both during the day and at our evening networking events.\n\nFor
  more information visit https://community.radrounds.com/events/bir-ann
 ual-congress
DTSTART:20151104T134500Z
DTEND:20151105T224500Z
CATEGORIES:conference
LOCATION:30 Euston Square
WEBSITE:https://membersarea.bir.org.uk/multievents/displayEvent.asp?Ty
 pe=Full&Code=5251
URL:https://membersarea.bir.org.uk/multievents/displayEvent.asp?Type=F
 ull&Code=5251
CONTACT:020 3668 2230
ORGANIZER:The British Institute of Radiology
ATTACH;FMTTYPE="image/jpeg":http://storage.ning.com/topology/rest/1.0/
 file/get/1044766753?profile=original
ATTENDEE;ROLE=REQ-PARTICIPANT;PARTSTAT=ACCEPTED;RSVP=TRUE;CN="Rebecca 
 Groves":https://community.radrounds.com/profile/RebeccaGroves
END:VEVENT
END:VCALENDAR
