BEGIN:VCALENDAR
PRODID:NingEventWidget-v1
VERSION:2.0
METHOD:PUBLISH
BEGIN:VEVENT
UID:1791588:Event:160432
DTSTAMP:20260421T231802Z
SUMMARY:Best of the Big Apple OB-GYN Ultrasound 2015
DESCRIPTION:Register and view full program details HERE\nHeld annually
  in New York City, the Best of the Big Apple OB-GYN Ultrasound confere
 nce is an accredited three day exploration of the most relevant and up
 -do-date OB-GYN Ultrasound information.Â  This course is designed for 
 Radiologists, OB-GYNs and Sonographers who require honed ultrasound sk
 ills to manage complicated cases.\nCourse Objectives\nUpon completion 
 of this conference, the participant will be able to:\nâ€¢ Improve skil
 ls in diagnosis of early pregnancy\nâ€¢ Improve skills in assessing ma
 ternal pelvic structures, including uterus and ovaries in the pregnant
  and non-pregnant patient\nâ€¢ Understand the expanding role of ultras
 ound in assessing pelvic blood flow with gynecologic pathology\nâ€¢ Ut
 ilize correctly the newest ultrasound techniques in the management of 
 multiple pregnancies\nâ€¢ Describe the role and essential components o
 f a complete fetal GI Tract and Genitourinary Evaluation\nâ€¢ Identify
  normal and abnormal placental attachment as well as cord location\nâ€
 ¢ Incorporate state-of-the-art practices in prenatal genetic screening
  into practice\nâ€¢ Improve skills in fetal cardiac diagnosis\nâ€¢ Rec
 ognize important coding and billing issues affecting the practice of o
 bstetrical and gynecological imaging\nAccreditation\nWorld Class CME i
 s accredited by the Accreditation Council for Continuing Medical Educa
 tion to provide continuing medical education for physicians.\nWorld Cl
 ass CME designates this live activity for a maximum of 19.25 AMA PRA C
 ategory 1 Creditsâ„¢. Physicians should claim only the credit commensu
 rate with the extent of their participation in the activity.\nThe Amer
 ican College of Obstetricians and Gynecologists has assigned up to 19 
 cognate credits to this program\n\nFor more information visit https://
 community.radrounds.com/events/best-of-the-big-apple-ob-gyn-ultrasound
 -2015
DTSTART:20151106T050000Z
DTEND:20151109T045900Z
CATEGORIES:ob-gyn, ultrasound, obstetrics, gynecology, "ob/gyn", mater
 nal-fetal, imaging, sonography, sonographer, radiology, diagnostic
LOCATION:Grand Hyatt New York
WEBSITE:http://www.worldclasscme.com/conferences/best-big-apple-ob-gyn
 2/
URL:http://www.worldclasscme.com/conferences/best-big-apple-ob-gyn2/
CONTACT:980-819-5095
ORGANIZER:World Class CME (www.worldclasscme.com)
ATTACH;FMTTYPE="image/jpeg":http://storage.ning.com/topology/rest/1.0/
 file/get/1044763431?profile=original
ATTENDEE;ROLE=REQ-PARTICIPANT;PARTSTAT=ACCEPTED;RSVP=TRUE;CN="JoAnn Co
 oke":https://community.radrounds.com/profile/JoAnnCooke
END:VEVENT
END:VCALENDAR
