BEGIN:VCALENDAR
PRODID:NingEventWidget-v1
VERSION:2.0
METHOD:PUBLISH
BEGIN:VEVENT
UID:1791588:Event:153878
DTSTAMP:20260420T190509Z
SUMMARY:Automated Breast Ultrasound Wrkshop
DESCRIPTION:Participants will receive guided instruction in 3D automat
 ed breast ultrasound interpretation by expert faculty as well as an op
 portunity to perform independent review of numerous clinical automated
  breast ultrasound data sets at an independent workstation. The course
  will provide instruction on recognizing the appearance of normal anat
 omic structures, benign findings and breast cancer on the unique coron
 al view, developing a screening workflow, interpretation and reporting
  process, and pearls and pitfalls for screening breast ultrasound. Thi
 s course offers 8 AMA PRA Category 1 Credits™ and fulfills the FDA a
 utomated breast ultrasound training requirement.\n\nFor more informati
 on visit https://community.radrounds.com/events/automated-breast-ultra
 sound-wrkshop
DTSTART:20140517T040000Z
DTEND:20140519T035900Z
CATEGORIES:automated, breast, ultrasound, imaging, mammography, radiol
 ogy
LOCATION:The Westin NY at Times Square
WEBSITE:http://www.worldclasscme.com/conferences/automated-breast-ultr
 asound-workshop/
URL:http://www.worldclasscme.com/conferences/automated-breast-ultrasou
 nd-workshop/
CONTACT:(980) 819-5095
ORGANIZER:World Class CME
ATTACH;FMTTYPE="image/jpeg":http://storage.ning.com/topology/rest/1.0/
 file/get/1044758516?profile=original
ATTENDEE;ROLE=REQ-PARTICIPANT;PARTSTAT=ACCEPTED;RSVP=TRUE;CN="JoAnn Co
 oke":https://community.radrounds.com/profile/JoAnnCooke
END:VEVENT
END:VCALENDAR
