BEGIN:VCALENDAR
PRODID:NingEventWidget-v1
VERSION:2.0
METHOD:PUBLISH
BEGIN:VEVENT
UID:1791588:Event:172727
DTSTAMP:20260420T171724Z
SUMMARY:Assessing Pediatric Trauma (Live Webinar)
DESCRIPTION:Course Topics\n\nImaging Modalities for Trauma\nTypes of C
 hild Abuse and Neglect in Imaging\nPediatric Patient Overview\nRadiati
 on Protection\nTechnical Tips\nImmobilization and Sedation\nMost Commo
 n Pediatric Trauma Injuries\nX-Ray Clues to Fractures in Pediatric Pat
 ients\n\n\nFor more information visit https://community.radrounds.com/
 events/assessing-pediatric-trauma-live-webinar
DTSTART:20171214T230000Z
DTEND:20171215T004500Z
CATEGORIES:live, webinar
LOCATION:Advanced Health Education Center
WEBSITE:https://store.aheconline.com/index.php?route=product/product&p
 ath=59&product_id=3060
URL:https://store.aheconline.com/index.php?route=product/product&path=
 59&product_id=3060
CONTACT:800-239-1361
ORGANIZER;CN="Larry Carney":https://community.radrounds.com/profile/La
 rryCarney
ATTACH;FMTTYPE="image/jpeg":
ATTENDEE;ROLE=REQ-PARTICIPANT;PARTSTAT=ACCEPTED;RSVP=TRUE;CN="Larry Ca
 rney":https://community.radrounds.com/profile/LarryCarney
END:VEVENT
END:VCALENDAR
