BEGIN:VCALENDAR
PRODID:NingEventWidget-v1
VERSION:2.0
METHOD:PUBLISH
BEGIN:VEVENT
UID:1791588:Event:116163
DTSTAMP:20260423T100502Z
SUMMARY:ARRT Registry Review 1 day
DESCRIPTION:ARRT Registry Review 1 day Saturday, April 21, 2012 - Satu
 rday, April 21, 2012Advanced Health Education Center Houston, Texas (T
 X), United StatesProvided by Advanced Health Education Center  CME Pro
 vider: Advanced Health Education Center 8502 Tybor DriveHouston, Texas
  (TX) 77074United States\nToll Free: (800) 239-1361Phone: (713) 772-01
 57Fax: (713) 772-0155\n\nConference Center:Advanced Health Education C
 enter 8502 Tybor DriveHouston, Texas (TX) 77074United States\nPhone: (
 800) 239-1361\nDescription:ARRT Registry Review for Diagnostic Imaging
 : How to Pass the Registry This review course is conducted in two part
 s and will provide you the tools needed to establish priorities for ex
 am preparation, identification of weak areas of study, evaluation of y
 our test taking strategies, and assessment of your ability to complete
  the exam successfully. This course will enhance your confidence in pa
 ssing the registry and will provide RESULTS! We boast a track record o
 f 85% pass rate for those who have previously been unsuccessful. Highe
 r than the national average! Course Topics The first portion of the re
 view course will allow access to a Mock Registry Review Exam via an el
 ectronic link. About one week prior to the course, AHEC will provide t
 hose attending the course a link to access the mock review and examina
 tion answer sheets. All you’ll need to do is to open the link and pr
 int off the provided answer sheets. Upon completion of the timed mock 
 examination, fax your answer sheets back to AHEC. Those returning thei
 r examinations no later than Monday of the week of the course will hav
 e their scores and test analysis for the day of the review. The exam a
 nalysis will provide a score for each content area and a total examina
 tion score which will guide you to better utilize your study time. All
  you will then need to do is come for the full review day ready to foc
 us your time and increase your level of success. Who should attend? Th
 ose who have a desire to pass the registry, particularly if you’ve b
 een unsuccessful in a previous attempt, have let your credentials expi
 re and those who are returning to the workforce after filing “retire
 d” status. Course Topics • Review of Mock Exam Scores • Psycholo
 gy of Test Taking • Overview of ARRT Examination Content • Patient
  Care & Management • Image Production & Evaluation • Radiographic 
 Procedures • Radiation Protection • Equipment Operation & Maintena
 nce • Questions & Answers\nSelf Assessment Module (SAM): No\nInstruc
 tors:Cindra Daniels, BS, R.T.\nSpecialty Audience:Radiology\n\nFor mor
 e information visit https://community.radrounds.com/events/arrt-regist
 ry-review-1-day
DTSTART:20120421T040000Z
DTEND:20120422T035900Z
CATEGORIES:radiology
LOCATION:Advanced Health Education Center
WEBSITE:http://aheconline.com/
URL:http://aheconline.com/
CONTACT:(800) 239-1361
ORGANIZER:Advanced Health Education Center
ATTACH;FMTTYPE="image/jpeg":
ATTENDEE;ROLE=REQ-PARTICIPANT;PARTSTAT=ACCEPTED;RSVP=TRUE;CN="radRound
 s Radiology Events":https://community.radrounds.com/profile/radRoundsR
 adiologyEvents
END:VEVENT
END:VCALENDAR
