BEGIN:VCALENDAR
PRODID:NingEventWidget-v1
VERSION:2.0
METHOD:PUBLISH
BEGIN:VEVENT
UID:1791588:Event:123276
DTSTAMP:20260421T121432Z
SUMMARY:ARRT Registry Review 1 day
DESCRIPTION:ARRT Registry Review for Diagnostic Imaging: How to Pass t
 he Registry This review course is conducted in two parts and will prov
 ide you the tools needed to establish priorities for exam preparation,
  identification of weak areas of study, evaluation of your test taking
  strategies, and assessment of your ability to complete the exam succe
 ssfully. This course will enhance your confidence in passing the regis
 try and will provide RESULTS! We boast a track record of 85% pass rate
  for those who have previously been unsuccessful. Higher than the nati
 onal average!  Course Topics The first portion of the review course w
 ill allow access to a Mock Registry Review Exam via an electronic link
 . About one week prior to the course, AHEC will provide those attendin
 g the course a link to access the mock review and examination answer s
 heets.  All you’ll need to do is to open the link and print off the
  provided answer sheets.  Upon completion of the timed mock examinati
 on, fax your answer sheets back to AHEC.  Those returning their exami
 nations no later than Monday of the week of the course will have their
  scores and test analysis for the day of the review. The exam analysis
  will provide a score for each content area and a total examination sc
 ore which will guide you to better utilize your study time. All you wi
 ll then need to do is come for the full review day ready to focus your
  time and increase your level of success.  Who should attend? Those w
 ho have a desire to pass the registry, particularly if you’ve been u
 nsuccessful in a previous attempt, have let your credentials expire an
 d those who are returning to the workforce after filing “retired” 
 status.ARRT Registry Review 1 day\n\nFor more information visit https:
 //community.radrounds.com/events/arrt-registry-review-1-day-1
DTSTART:20120908T120000Z
DTEND:20120908T210000Z
CATEGORIES:ce, course
LOCATION:Advanced Health Education Center
WEBSITE:http://store.aheconline.com/DisplayDetail.aspx?pid=7020
URL:http://store.aheconline.com/DisplayDetail.aspx?pid=7020
CONTACT:800-239-1361
ORGANIZER:Advanced Health Education Center
ATTACH;FMTTYPE="image/jpeg":
ATTENDEE;ROLE=REQ-PARTICIPANT;PARTSTAT=ACCEPTED;RSVP=TRUE;CN="Larry Ca
 rney":https://community.radrounds.com/profile/LarryCarney
END:VEVENT
END:VCALENDAR
