BEGIN:VCALENDAR
PRODID:NingEventWidget-v1
VERSION:2.0
METHOD:PUBLISH
BEGIN:VEVENT
UID:1791588:Event:116768
DTSTAMP:20260420T172151Z
SUMMARY:American Society of Neuroradiology 2014
DESCRIPTION:American Society of Neuroradiology 2014 Saturday, May 17, 
 2014 - Thursday, May 22, 2014The Palais des Congr?s de Monteal Montrea
 l, Quebec, CanadaProvided by American Society of Neuroradiology (ASNR)
   CME Provider: American Society of Neuroradiology (ASNR) 2210 Midwest
  Road, Suite 207Oak Brook, Illinois (IL) 60523United States\nPhone: (6
 30) 574-0220Fax: (630) 574-0661\n\nConference Center:The Palais des Co
 ngr?s de Monteal 1001 Place Jean-Paul-RiopelleMontreal, Quebec, Canada
 \nToll Free: (800) 268-8122Phone: (514) 871-8122Fax: (514) 871-9389\n 
 Description:Please visit the American Society of Neuroradiology (ASNR)
  website for more information.\nSelf Assessment Module (SAM): No\nInst
 ructors:Please visit the American Society of Neuroradiology (ASNR) web
 site for more information.\nSpecialty Audience:Radiology\n\nFor more i
 nformation visit https://community.radrounds.com/events/american-socie
 ty-of-neuroradiology-2014
DTSTART:20140517T040000Z
DTEND:20140523T035900Z
CATEGORIES:radiology
LOCATION:The Palais des Congr?s de Monteal
WEBSITE:http://www.congresmtl.com/en/index.aspx?lg=en
URL:http://www.congresmtl.com/en/index.aspx?lg=en
CONTACT:American Society of Neuroradiology (ASNR)
ORGANIZER:(514) 871-8122
ATTACH;FMTTYPE="image/jpeg":
ATTENDEE;ROLE=REQ-PARTICIPANT;PARTSTAT=ACCEPTED;RSVP=TRUE;CN="radRound
 s Radiology Events":https://community.radrounds.com/profile/radRoundsR
 adiologyEvents
END:VEVENT
END:VCALENDAR
