BEGIN:VCALENDAR
PRODID:NingEventWidget-v1
VERSION:2.0
METHOD:PUBLISH
BEGIN:VEVENT
UID:1791588:Event:187477
DTSTAMP:20260419T234421Z
SUMMARY:AIRP at Stockport, United Kingdom
DESCRIPTION:Join Drs. Scholz and Wagner as they lecture on radiologic 
 pathology correlation for abdominal organ systems in this 2-day course
 .\n\nFor more information visit https://community.radrounds.com/events
 /airp-at-stockport-united-kingdom
DTSTART:20190212T050000Z
DTEND:20190213T045900Z
CATEGORIES:radiologic, pathology, correlation, lectures
LOCATION:PINEWOOD HOUSE, EDUCATION CENTRE
WEBSITE:https://www.airp.org/catcourse/uk
URL:https://www.airp.org/catcourse/uk
CONTACT:1-703-390-9881
ORGANIZER:Dr. Saravanan Munusamy
ATTACH;FMTTYPE="image/jpeg":https://storage.ning.com/topology/rest/1.0
 /file/get/1035809227?profile=original
ATTENDEE;ROLE=REQ-PARTICIPANT;PARTSTAT=ACCEPTED;RSVP=TRUE;CN="Morgan W
 alters":https://community.radrounds.com/profile/MorganWalters
END:VEVENT
END:VCALENDAR
