BEGIN:VCALENDAR
PRODID:NingEventWidget-v1
VERSION:2.0
METHOD:PUBLISH
BEGIN:VEVENT
UID:1791588:Event:187460
DTSTAMP:20260421T141629Z
SUMMARY:AIRP and Verein zur Förderung der internationalen Fortbildung
  und Zusammenarbeit in der Radiologie
DESCRIPTION:Join Drs. Ruben, Jha, Kransdorf and Siegel as they lecture
  on radiologic pathology correlation on MSK, Pediatric, and Abdominal 
 organ systems.\n\nFor more information visit https://community.radroun
 ds.com/events/airp-and-verein-zur-f-rderung-der-internationalen-fortbi
 ldung-und
DTSTART:20190612T220000Z
DTEND:20190615T230000Z
CATEGORIES:radiology, pathology, correlation, lectures
LOCATION:Vienna Marriott Hotel
WEBSITE:http://RadPath.at
URL:http://RadPath.at
CONTACT:+43 660 41 60 813
ORGANIZER:Dr. Martin Fischer
ATTACH;FMTTYPE="image/jpeg":https://storage.ning.com/topology/rest/1.0
 /file/get/1035557223?profile=original
ATTENDEE;ROLE=REQ-PARTICIPANT;PARTSTAT=ACCEPTED;RSVP=TRUE;CN="Morgan W
 alters":https://community.radrounds.com/profile/MorganWalters
END:VEVENT
END:VCALENDAR
