BEGIN:VCALENDAR
PRODID:NingEventWidget-v1
VERSION:2.0
METHOD:PUBLISH
BEGIN:VEVENT
UID:1791588:Event:187609
DTSTAMP:20260421T092122Z
SUMMARY:AIRP and SPRMN Radiologic Pathology Correlation Lectures
DESCRIPTION:Join Drs. Rubens, Kransdorf, and Harvey as they lecture on
  radiologic pathology correlation for Genitourinary, MSK and Breast or
 gan systems\n\nFor more information visit https://community.radrounds.
 com/events/airp-and-sprmn-radiologic-pathology-correlation-lectures
DTSTART:20191016T040000Z
DTEND:20191019T035900Z
CATEGORIES:radiologic, pathology, correlation, lectures
LOCATION:Bessa Hotel Boavista
WEBSITE:http://www.sprmn.pt
URL:http://www.sprmn.pt
CONTACT:+351-933198589
ORGANIZER:António Madureira, MD
ATTACH;FMTTYPE="image/jpeg":https://storage.ning.com/topology/rest/1.0
 /file/get/1035758885?profile=original
ATTENDEE;ROLE=REQ-PARTICIPANT;PARTSTAT=ACCEPTED;RSVP=TRUE;CN="Morgan W
 alters":https://community.radrounds.com/profile/MorganWalters
END:VEVENT
END:VCALENDAR
