BEGIN:VCALENDAR
PRODID:NingEventWidget-v1
VERSION:2.0
METHOD:PUBLISH
BEGIN:VEVENT
UID:1791588:Event:187466
DTSTAMP:20260421T110641Z
SUMMARY:AIRP and SERAM Radiologic Pathology Lectures
DESCRIPTION:Join Drs. Ruben, Jha, Kransdorf and Siegel as they lecture
  on radiologic pathology correlation on MSK, Pediatric, and Abdominal 
 organ systems.\n\nFor more information visit https://community.radroun
 ds.com/events/airp-and-seram-radiologic-pathology-lectures
DTSTART:20190617T040000Z
DTEND:20190621T035900Z
CATEGORIES:radiologic, pathology, lectures
LOCATION:Hospital Universitario de La Princesa
WEBSITE:http://fundacion@seram.es
URL:http://fundacion@seram.es
CONTACT:+34 915752613
ORGANIZER:Dr. Javier Rodriquez Recio
ATTACH;FMTTYPE="image/jpeg":https://storage.ning.com/topology/rest/1.0
 /file/get/1035592498?profile=original
ATTENDEE;ROLE=REQ-PARTICIPANT;PARTSTAT=ACCEPTED;RSVP=TRUE;CN="Morgan W
 alters":https://community.radrounds.com/profile/MorganWalters
END:VEVENT
END:VCALENDAR
