BEGIN:VCALENDAR
PRODID:NingEventWidget-v1
VERSION:2.0
METHOD:PUBLISH
BEGIN:VEVENT
UID:1791588:Event:187515
DTSTAMP:20260420T030453Z
SUMMARY:AIRP and SAR/FAARDIT Radioloigc Pathology Lecturers
DESCRIPTION:Join Dr. Robert Shih as he lectures on radiologic patholog
 y correlation on Brain, Spine and Neck during the annual SAR 2019 conf
 erence\n\nFor more information visit https://community.radrounds.com/e
 vents/airp-and-sar-faardit-radioloigc-pathology-lecturers
DTSTART:20190212T050000Z
DTEND:20190213T045900Z
CATEGORIES:radiologic, pathology, lectures
LOCATION:CENTRO DE CONVENCIONES BUENOS AIRES
WEBSITE:http://www.sar.org.ar/
URL:http://www.sar.org.ar/
CONTACT:(54-11) 4779-5030
ORGANIZER:Dr. Daniel Mysler
ATTACH;FMTTYPE="image/jpeg":https://storage.ning.com/topology/rest/1.0
 /file/get/1035621396?profile=original
ATTENDEE;ROLE=REQ-PARTICIPANT;PARTSTAT=ACCEPTED;RSVP=TRUE;CN="Morgan W
 alters":https://community.radrounds.com/profile/MorganWalters
END:VEVENT
END:VCALENDAR
