BEGIN:VCALENDAR
PRODID:NingEventWidget-v1
VERSION:2.0
METHOD:PUBLISH
BEGIN:VEVENT
UID:1791588:Event:187603
DTSTAMP:20260422T004744Z
SUMMARY:AIRP and RCRT (Thailand) Radiologic Pathology Correlation Lect
 ures
DESCRIPTION:Join Drs. Wong, Wolfman, Lane, and Scholz as they lecture 
 4 days on radiologic pathology correlation on abdominal organ system
 s.\n\nFor more information visit https://community.radrounds.com/event
 s/airp-and-rcrt-thailand-radiologic-pathology-correlation-lectures
DTSTART:20190824T040000Z
DTEND:20190828T035900Z
CATEGORIES:radiologic, pathology, correlation, lectures
LOCATION:Bhumisiri Mangkalanusorn building
WEBSITE:http://www.rcrt.or.th/AIRP
URL:http://www.rcrt.or.th/AIRP
CONTACT:rasjv@yahoo.com
ORGANIZER:President Anchalee Churojana, MD
ATTACH;FMTTYPE="image/jpeg":https://storage.ning.com/topology/rest/1.0
 /file/get/1035700585?profile=original
ATTENDEE;ROLE=REQ-PARTICIPANT;PARTSTAT=ACCEPTED;RSVP=TRUE;CN="Morgan W
 alters":https://community.radrounds.com/profile/MorganWalters
END:VEVENT
END:VCALENDAR
