BEGIN:VCALENDAR
PRODID:NingEventWidget-v1
VERSION:2.0
METHOD:PUBLISH
BEGIN:VEVENT
UID:1791588:Event:187518
DTSTAMP:20260421T224919Z
SUMMARY:AIRP and JFR (France) Radiologic Pathology Correlation Lecture
 s
DESCRIPTION:Join Drs. Rubens, Kransdorf, and Harvey as they lecture on
  radiologic pathology correlation for Genitourinary, MSK and Breast or
 gan systems.\n\nFor more information visit https://community.radrounds
 .com/events/airp-and-jfr-france-radiologic-pathology-correlation-lectu
 res
DTSTART:20191011T040000Z
DTEND:20191015T035900Z
CATEGORIES:radiologic, pathology, correlation, lectures
LOCATION:Palais des Congrès
WEBSITE:http://Jfr.radiologie.fr
URL:http://Jfr.radiologie.fr
CONTACT:Jessica.taclet@sfradiologie.org
ORGANIZER:Prof. Eric De Kerviler
ATTACH;FMTTYPE="image/jpeg":https://storage.ning.com/topology/rest/1.0
 /file/get/1035737358?profile=original
ATTENDEE;ROLE=REQ-PARTICIPANT;PARTSTAT=ACCEPTED;RSVP=TRUE;CN="Morgan W
 alters":https://community.radrounds.com/profile/MorganWalters
END:VEVENT
END:VCALENDAR
