BEGIN:VCALENDAR
PRODID:NingEventWidget-v1
VERSION:2.0
METHOD:PUBLISH
BEGIN:VEVENT
UID:1791588:Event:187453
DTSTAMP:20260422T214814Z
SUMMARY:AIRP and CAR (Canada) RadPath MSK Correlation Course
DESCRIPTION:Join Dr. Mark D. Murphey as he lectures on MSK radiologic 
 pathology correlation at the annual CAR conference in 2019.\n\nFor mor
 e information visit https://community.radrounds.com/events/airp-and-ca
 r-canada-radpath-msk-correlation-course
DTSTART:20190412T220000Z
DTEND:20190415T230000Z
CATEGORIES:lectures
LOCATION:Le Centre Sheraton Montreal
WEBSITE:https://car.ca/
URL:https://car.ca/
CONTACT:brandy@f2fe.com
ORGANIZER:Dr. Casey Hurrel
ATTACH;FMTTYPE="image/jpeg":https://storage.ning.com/topology/rest/1.0
 /file/get/1035562855?profile=original
ATTENDEE;ROLE=REQ-PARTICIPANT;PARTSTAT=ACCEPTED;RSVP=TRUE;CN="Morgan W
 alters":https://community.radrounds.com/profile/MorganWalters
END:VEVENT
END:VCALENDAR
