BEGIN:VCALENDAR
PRODID:NingEventWidget-v1
VERSION:2.0
METHOD:PUBLISH
BEGIN:VEVENT
UID:1791588:Event:116089
DTSTAMP:20260423T100326Z
SUMMARY:AHEC MRI Conference 2012
DESCRIPTION:AHEC MRI Conference 2012 Saturday, April 21, 2012 - Saturd
 ay, April 21, 2012Advanced Health Education Center Houston, Texas (TX)
 , United StatesProvided by Advanced Health Education Center  CME Provi
 der: Advanced Health Education Center 8502 Tybor DriveHouston, Texas (
 TX) 77074United States\nToll Free: (800) 239-1361Phone: (713) 772-0157
 Fax: (713) 772-0155\n\nConference Center:Advanced Health Education Cen
 ter 8502 Tybor DriveHouston, Texas (TX) 77074United States\nPhone: (80
 0) 239-1361\nDescription:\nJoin us for a one day conference planned fo
 r the today’s practicing MRI Technologist with topics that are relev
 ant to the technologist’s daily practice. The cutting edge technolog
 y in MRI reflects the “new face” of skills needed by today’s MRI
  Technologist. The faculty will touch on the explosion of new technolo
 gy in MRI and reinforce the fundamentals of how MRI is used in diagnos
 is and treatment planning. Mark the date you don't\nSelf Assessment Mo
 dule (SAM): No\nInstructors:AHEC Staff-TBD\nSpecialty Audience:Radiolo
 gy\n\nFor more information visit https://community.radrounds.com/event
 s/ahec-mri-conference-2012
DTSTART:20120421T040000Z
DTEND:20120422T035900Z
CATEGORIES:radiology
LOCATION:Advanced Health Education Center
WEBSITE:http://aheconline.com/
URL:http://aheconline.com/
CONTACT:(800) 239-1361
ORGANIZER:Advanced Health Education Center
ATTACH;FMTTYPE="image/jpeg":
ATTENDEE;ROLE=REQ-PARTICIPANT;PARTSTAT=ACCEPTED;RSVP=TRUE;CN="radRound
 s Radiology Events":https://community.radrounds.com/profile/radRoundsR
 adiologyEvents
END:VEVENT
END:VCALENDAR
