BEGIN:VCALENDAR
PRODID:NingEventWidget-v1
VERSION:2.0
METHOD:PUBLISH
BEGIN:VEVENT
UID:1791588:Event:168003
DTSTAMP:20260421T124150Z
SUMMARY:AHEC Live Third Thursday: Osteoporosis, Pediatric Radiation Pr
 otection, and Patient Care in the Radiology Department (Live Webinar)
DESCRIPTION:Course Topics\n\nAvoiding Osteoporosis\nPediatric Radiatio
 n Protection\nPatient Centered Care in the Radiology Department\n\nSta
 rt Time Based on Time Zone:\n\n7:00PM Eastern\n6:00PM Central\n5:00PM 
 Mountain\n4:00PM Pacific\n3:00PM Alaska\n2:00PM Hawaii\n\n\nFor more i
 nformation visit https://community.radrounds.com/events/ahec-live-thir
 d-thursday-osteoporosis-pediatric-radiation
DTSTART:20160616T220000Z
DTEND:20160617T003000Z
CATEGORIES:webinar
LOCATION:Houston
WEBSITE:https://store.aheconline.com/index.php?route=product/product&p
 ath=59_167_191&product_id=2478
URL:https://store.aheconline.com/index.php?route=product/product&path=
 59_167_191&product_id=2478
CONTACT:1-800-239-1361
ORGANIZER;CN="Larry Carney":https://community.radrounds.com/profile/La
 rryCarney
ATTACH;FMTTYPE="image/jpeg":
ATTENDEE;ROLE=REQ-PARTICIPANT;PARTSTAT=ACCEPTED;RSVP=TRUE;CN="Larry Ca
 rney":https://community.radrounds.com/profile/LarryCarney
END:VEVENT
END:VCALENDAR
