BEGIN:VCALENDAR
PRODID:NingEventWidget-v1
VERSION:2.0
METHOD:PUBLISH
BEGIN:VEVENT
UID:1791588:Event:168734
DTSTAMP:20260420T231401Z
SUMMARY:AHEC Live Third Thursday: Osteoporosis, Pediatric Radiation Pr
 otection, and Patient Care in the Radiology Department
DESCRIPTION:Course Description Coming Soon!\n\nFor more information vi
 sit https://community.radrounds.com/events/ahec-live-third-thursday-os
 teoporosis-pediatric-radiation-1
DTSTART:20170119T230000Z
DTEND:20170120T013000Z
CATEGORIES:webinar
LOCATION:Advanced Health Education Center
WEBSITE:https://store.aheconline.com/index.php?route=product/product&p
 ath=59&product_id=2850
URL:https://store.aheconline.com/index.php?route=product/product&path=
 59&product_id=2850
CONTACT:1-800-239-1361
ORGANIZER;CN="Larry Carney":https://community.radrounds.com/profile/La
 rryCarney
ATTACH;FMTTYPE="image/jpeg":
ATTENDEE;ROLE=REQ-PARTICIPANT;PARTSTAT=ACCEPTED;RSVP=TRUE;CN="Larry Ca
 rney":https://community.radrounds.com/profile/LarryCarney
END:VEVENT
END:VCALENDAR
