BEGIN:VCALENDAR
PRODID:NingEventWidget-v1
VERSION:2.0
METHOD:PUBLISH
BEGIN:VEVENT
UID:1791588:Event:116123
DTSTAMP:20260424T004757Z
SUMMARY:Advances in Diagnostic Radiology
DESCRIPTION:Advances in Diagnostic Radiology Monday, March 12, 2012 - 
 Friday, March 16, 2012Loews Portofino Bay Hotel at Universal Orlando O
 rlando, Florida (FL), United StatesProvided by Mayo Clinic  CME Provid
 er: Mayo Clinic Department of Radiology200 1st Street SWMayo, W-2Roche
 ster, Minnesota (MN) 55905United States\nToll Free: (866) 246-1581Phon
 e: (507) 284-3317Fax: (507) 266-3061\n\nConference Center:Loews Portof
 ino Bay Hotel at Universal Orlando 5601 Universal BlvdOrlando, Florida
  (FL) 32819United States\nToll Free: (888) 430-4999Phone: (407) 503-10
 00Fax: (407) 503-1010\nDescription:Advances in Diagnostic Radiology is
  a postgraduate course designed to update the diagnostic radiologist i
 n new trends, relevant techniques, and advanced applications in diagno
 stic imaging. The latest advances will be emphasized and related to co
 mmon problems encountered in clinical practice. A variety of didactic 
 lectures and accessible faculty members will enhance learning througho
 ut the week. Each morning,interesting case of the week presentations f
 rom the Mayo Clinic files will be presented in an “unknown case” f
 ormat. The participant will have access to these cases and answers upo
 n completion of the course. All faculty members are in practice at May
 o Clinic Rochester, Jacksonville, or Scottsdale and will draw from per
 sonal research activities as well as from clinical experience at Mayo 
 Clinic.\nSelf Assessment Module (SAM): No\nInstructors:COURSE DIRECTOR
 S:Jerome F. Breen, M.D.Mark J. Kransdorf, M.D.\nCOURSE FACULTY:James C
 . Andrews, M.D.Jerome F. Breen, M.D.Mellena D. Bridges, M.D.Amy L. Con
 ners, M.D.Tara L. Henrichsen, M.D.Michael C. Johnson, III, M.D.Bernard
  F. King, M.D.Mark J. Kransdorf, M.D.A. Nicholas Kurup, M.D.Roxanne Lo
 rans, M.D.Michelle D. McDonough, M.D.Maitray D. Patel, M.D.Jeffrey J. 
 Peterson, M.D.Catherine C. Roberts, M.D.Alvin C. Silva, M.D.Steven W. 
 Trenkner, M.D.Phillip M. Young, M.D.\nSpecialty Audience:Radiology\n\n
 For more information visit https://community.radrounds.com/events/adva
 nces-in-diagnostic-radiology
DTSTART:20120312T040000Z
DTEND:20120317T035900Z
CATEGORIES:radiology
LOCATION:Loews Portofino Bay Hotel at Universal Orlando
WEBSITE:http://www.loewshotels.com/en/Portofino-Bay-Hotel
URL:http://www.loewshotels.com/en/Portofino-Bay-Hotel
CONTACT:(407) 503-1000
ORGANIZER:Mayo Clinic
ATTACH;FMTTYPE="image/jpeg":
ATTENDEE;ROLE=REQ-PARTICIPANT;PARTSTAT=ACCEPTED;RSVP=TRUE;CN="radRound
 s Radiology Events":https://community.radrounds.com/profile/radRoundsR
 adiologyEvents
END:VEVENT
END:VCALENDAR
