BEGIN:VCALENDAR
PRODID:NingEventWidget-v1
VERSION:2.0
METHOD:PUBLISH
BEGIN:VEVENT
UID:1791588:Event:175794
DTSTAMP:20260423T185354Z
SUMMARY:Advancements in Alzheimers Imaging [12:00pm CST] (Live Webinar
 )
DESCRIPTION:Course Topics\n\nHistory of Alzheimer's\nAffected Areas of
  the Brain\nStages of Alzheimer's\nNew FDA Imaging\nGenetic Components
 \nNew Advancements\n\n\nFor more information visit https://community.r
 adrounds.com/events/advancements-in-alzheimers-imaging-12-00pm-cst-liv
 e-webinar
DTSTART:20170905T160000Z
DTEND:20170905T170000Z
CATEGORIES:live, webinar
LOCATION:Advanced Health Education Center
WEBSITE:https://store.aheconline.com/index.php?route=product/product&a
 mp;path=59_167_191&amp;product_id=3365
URL:https://store.aheconline.com/index.php?route=product/product&amp;p
 ath=59_167_191&amp;product_id=3365
CONTACT:800-239-1361
ORGANIZER;CN="Larry Carney":https://community.radrounds.com/profile/La
 rryCarney
ATTACH;FMTTYPE="image/jpeg":
ATTENDEE;ROLE=REQ-PARTICIPANT;PARTSTAT=ACCEPTED;RSVP=TRUE;CN="Larry Ca
 rney":https://community.radrounds.com/profile/LarryCarney
END:VEVENT
END:VCALENDAR
