BEGIN:VCALENDAR
PRODID:NingEventWidget-v1
VERSION:2.0
METHOD:PUBLISH
BEGIN:VEVENT
UID:1791588:Event:176173
DTSTAMP:20260423T171129Z
SUMMARY:Advancements in Alzheimers Imaging [10:00am CST] (Live Webinar
 )
DESCRIPTION:Course Topics\n\nHistory of Alzheimer's\nAffected Areas of
  the Brain\nStages of Alzheimer's\nNew FDA Imaging\nGenetic Components
 \nNew Advancements\n\n\nFor more information visit https://community.r
 adrounds.com/events/advancements-in-alzheimers-imaging-10-00am-cst-liv
 e-webinar
DTSTART:20170926T140000Z
DTEND:20170926T150000Z
CATEGORIES:live, webinar
LOCATION:Advanced Health Education Center
WEBSITE:https://store.aheconline.com/index.php?route=product/product&a
 mp;path=59_167_191&amp;product_id=3368
URL:https://store.aheconline.com/index.php?route=product/product&amp;p
 ath=59_167_191&amp;product_id=3368
CONTACT:800-239-1361
ORGANIZER;CN="Larry Carney":https://community.radrounds.com/profile/La
 rryCarney
ATTACH;FMTTYPE="image/jpeg":
ATTENDEE;ROLE=REQ-PARTICIPANT;PARTSTAT=ACCEPTED;RSVP=TRUE;CN="Larry Ca
 rney":https://community.radrounds.com/profile/LarryCarney
END:VEVENT
END:VCALENDAR
