BEGIN:VCALENDAR
PRODID:NingEventWidget-v1
VERSION:2.0
METHOD:PUBLISH
BEGIN:VEVENT
UID:1791588:Event:172460
DTSTAMP:20260423T170732Z
SUMMARY:Advancements in Alzheimer's Imaging (Live Webinar)
DESCRIPTION:Course Topics\n\nHistory of Alzheimer's\nAffected Areas of
  the Brain\nStages of Alzheimer's\nNew FDA Imaging\nGenetic Components
 \nNew Advancements\n\n\nFor more information visit https://community.r
 adrounds.com/events/advancements-in-alzheimer-s-imaging-live-webinar
DTSTART:20170831T220000Z
DTEND:20170831T230000Z
CATEGORIES:live, webinar
LOCATION:Advanced Health Education Center
WEBSITE:https://store.aheconline.com/index.php?route=product/product&p
 ath=59_167&product_id=3049
URL:https://store.aheconline.com/index.php?route=product/product&path=
 59_167&product_id=3049
CONTACT:800-239-1361
ORGANIZER;CN="Larry Carney":https://community.radrounds.com/profile/La
 rryCarney
ATTACH;FMTTYPE="image/jpeg":
ATTENDEE;ROLE=REQ-PARTICIPANT;PARTSTAT=ACCEPTED;RSVP=TRUE;CN="Larry Ca
 rney":https://community.radrounds.com/profile/LarryCarney
END:VEVENT
END:VCALENDAR
