BEGIN:VCALENDAR
PRODID:NingEventWidget-v1
VERSION:2.0
METHOD:PUBLISH
BEGIN:VEVENT
UID:1791588:Event:59110
DTSTAMP:20260419T092733Z
SUMMARY:Advanced Radiology Life Support (ARLS) Course
DESCRIPTION:Advanced Radiology Life Support (ARLS) Course\nSaturday, S
 eptember 18, 2010\nRochester, MN\n\nMEETING SPONSOR:\nMayo Clinic\nDep
 artment of Radiology CME Office\nMayo, West-2\n200 First Street SW\nRo
 chester, MN 55905\nToll-Free (866) 246-1581\n(507) 284-3317\nFAX (507)
  266-3061\nEmail: radiologycme@mayo.edu\nWebsite: http://www.mayo.edu/
 cme/radiology.html\n\nCONFERENCE CENTER:\nSiebens Medical Education Bu
 ilding\nPhillips Hall - 1st Floor\n200 First Street SW\nRochester, MN 
 55905\n\nMEETING DESCRIPTION:\nThe Advanced Radiology Life Support Cou
 rse (ARLS) is designed to focus on the unique, life-threatening emerge
 ncies that occur within a radiology department. It is designed to teac
 h prompt recognition and treatment of contrast reactions, management o
 f the sedated patient, the proper management of an airway in an emerge
 ncy situation, and basic concepts of advanced life support. This cours
 e is fashioned after the Advanced Cardiac Life Support (ACLS) course t
 hat has been successful in teaching physicians, nurses, and allied hea
 lth personnel patient management during cardiac arrest. This course wi
 ll offer the 2005 American Heart Association Basic Life Support (BLS) 
 recertification training materials. The ARLS, sedation, and BLS traini
 ng materials included in this course were used to train physicians, nu
 rses, and allied health personnel at the Mayo Clinic prior to a Joint 
 Commission site visit. This training program may help your department 
 for a similar evaluation. Attendees will also have the opportunity to 
 participate in a general self-assessment module (SAM) presented during
  the course. The self-assessment module has been designed to meet the 
 standards of the American Board of Radiology (ABR) for self-assessment
  modules (SAMs).\n\nCME HOURS: not listed\n\nLECTURE TOPICS:\nnot list
 ed\n\nFor more information visit https://community.radrounds.com/event
 s/advanced-radiology-life-2
DTSTART:20100918T040000Z
DTEND:20100919T035900Z
CATEGORIES:advanced, radiology, life, support
LOCATION:Siebens Medical Education Building
WEBSITE:
URL:
CONTACT:
ORGANIZER:Mayo Clinic
ATTACH;FMTTYPE="image/jpeg":
ATTENDEE;ROLE=REQ-PARTICIPANT;PARTSTAT=ACCEPTED;RSVP=TRUE;CN="radRound
 s Radiology Events":https://community.radrounds.com/profile/radRoundsR
 adiologyEvents
END:VEVENT
END:VCALENDAR
