BEGIN:VCALENDAR
PRODID:NingEventWidget-v1
VERSION:2.0
METHOD:PUBLISH
BEGIN:VEVENT
UID:1791588:Event:177401
DTSTAMP:20260422T004814Z
SUMMARY:Advanced Peripheral Nerve Ultrasound: Diagnostic and Intervent
 ional Applications
DESCRIPTION:This is an advanced level peripheral nerve course. Prior u
 ltrasound scanning experience or attending an Intro level MSK course p
 rior to attending this program is recommended. This advanced periphera
 l ultrasound guided nerve block course includes basic and advanced tec
 hniques for diagnosing focal neuropathies and integrating intervention
 al peripheral nerve techniques. Taught by leading ultrasound experts, 
 this unique ultrasound training course incorporates comprehensive lect
 ures, interactive case presentations, and extensive hands-on scanning,
  featuring a 3:1 ratio with live models and inanimate phantoms for the
  evaluation of upper and lower extremity peripheral nerves.\n\nFor mor
 e information visit https://community.radrounds.com/events/advanced-pe
 ripheral-nerve-ultrasound-diagnostic-and-1
DTSTART:20180621T114500Z
DTEND:20180622T203000Z
CATEGORIES:live, seminar
LOCATION:Gulfcoast Ultrasound Institute
WEBSITE:https://www.gcus.com/
URL:https://www.gcus.com/
CONTACT:7273634500
ORGANIZER:Gulfcoast Ultrasound Institute, Inc
ATTACH;FMTTYPE="image/jpeg":http://storage.ning.com/topology/rest/1.0/
 file/get/1044772747?profile=original
ATTENDEE;ROLE=REQ-PARTICIPANT;PARTSTAT=ACCEPTED;RSVP=TRUE;CN="Casey Gr
 een":https://community.radrounds.com/profile/JamesSalame
END:VEVENT
END:VCALENDAR
