BEGIN:VCALENDAR
PRODID:NingEventWidget-v1
VERSION:2.0
METHOD:PUBLISH
BEGIN:VEVENT
UID:1791588:Event:73240
DTSTAMP:20260425T141717Z
SUMMARY:Advanced Orthopaedic and Joint MRI: Emphasis on Small Joints
DESCRIPTION:21st Annual International MRI Workshop\n\nAdvanced Orthopa
 edic and Joint MRI: Emphasis on Small Joints\n\nNovember 21-25, 2011\n
 \nFour Seasons Hotel\nChicago, Illinois\n\n46 AMA PRA (Physician Recog
 nition Award) Category 1 Credits™\n\nBREAST MRI MODULE: 16 CME\n\nBr
 east MRI merges the two-dimensional morphologic assessment of mammogra
 phy with the soft-tissue signal characterization of MRI, adding the di
 stinct advantage of angiogenesis evaluation. Learning the MRI appearan
 ce of different histologies and differentiating them from benign cause
 s of tissue enhancement is a nuanced task.\n\nThis course incorporates
  a detailed synopsis of breast MRI science, technique, and interpretat
 ion based on more than 20,000 cases of experience. It also explains it
 s place within the milieu of total breast imaging and care. Numerous 
 live” case discussions are included to supplement the course lectu
 res.\n\nADVANCED ORTHOPAEDIC AND JOINT MRI MODULE : 30 CME\n\nThis adv
 anced course provides practical approaches and state-of-the-art update
 s to interpreting wrist, hand, ankle, foot, toe, elbow, shoulder, hip,
  and knee joint MRI exams. The program includes anatomy and mechanisms
  of injury, and such representative topics as the throwing athlete, sy
 novial diseases, detailed shoulder and hip labral interpretation, and 
 hip femoroactabular impingement. Talks are supplemented by live case r
 eading sessions.\n\nWHO SHOULD ATTEND\n\nRadiologists\nMR specialists\
 nImaging physicians\nOrthopaedic surgeons\nGeneral Surgeons\nBreast su
 rgeons\nReferring clinicians\nMammographers\n\nCOURSE OBJECTIVES\nPart
 icipants who complete this activity should be able to:\n• Breast MRI
  Module\n• Improve their interpretation of breast MRI, allowing for 
 practice improvement and better patient care.\n• Gain a better under
 standing of the screening and diagnostic modalities' strengths and wea
 knesses.\n• Come away with greater knowledge of the applications, re
 imbursement, and outcomes of breast MRI.\n• Advanced Orthopaedic and
  Joint MRI Module\n• Identify normal anatomy and variations, as well
  as pathology of the musculoskeletal system.\n• Recognize indication
 s and applications of magnetic resonance imaging and other advanced im
 aging modalities for bone and soft tissues .\n• Discuss a multidisci
 plinary approach to patient management, allowing for practice improvem
 ent and better patient care.\n\nPHYSICIANS\nProScan Imaging Education 
 Foundation is Accredited with Commendation by the Accreditation Counci
 l for Continuing Medical Education (ACCME) to provide continuing medic
 al education for physicians.\n\nACCREDITATION\nThis activity has been 
 planned and implemented in accordance with the Essentials and Standard
 s of ACCME.\n\nDESIGNATION\nProScan Imaging Education Foundation desig
 nates this educational activity for a maximum of 46 AMA PRA (Physician
  Recognized Award) Category 1 Credits.™ Physicians should only claim
  credit commensurate with the extent of their participation.\n\nFACULT
 Y\nStephen J. Pomeranz, M.D.\n\nHOW TO REGISTER\nNOTE: Our courses oft
 en fill up quickly, so we strongly recommend you DO NOT make travel re
 servations until you have received a registration confirmation from us
 .\nPhone Call 513-924-5365\n1-866-MRI-EDUC (1-866-674-3382) (toll-free
  in the U.S.)\nSomeone will be available to take your call between 8:0
 0 am and 5:00 pm EST\nFax 513-352-9424\nMail ProScan Imaging Education
  Foundation\nCourse Registration\n5400 Kennedy Avenue\nCincinnati, OH 
 45213\nE-mail mrieducation@proscan.com\n\nFor more information visit h
 ttps://community.radrounds.com/events/advanced-orthopaedic-and-joint-3
DTSTART:20111122T050000Z
DTEND:20111126T045900Z
CATEGORIES:workshop
LOCATION:Four Seasons Hotel
WEBSITE:http://www.proscan.com/fw/main/Chicago-2011-International-1523
 .html
URL:http://www.proscan.com/fw/main/Chicago-2011-International-1523.htm
 l
CONTACT:513-924-5365
ORGANIZER:ProScan Imaging Education Foundation
ATTACH;FMTTYPE="image/jpeg":
ATTENDEE;ROLE=REQ-PARTICIPANT;PARTSTAT=ACCEPTED;RSVP=TRUE;CN="radRound
 s Radiology Events":https://community.radrounds.com/profile/radRoundsR
 adiologyEvents
END:VEVENT
END:VCALENDAR
