BEGIN:VCALENDAR
PRODID:NingEventWidget-v1
VERSION:2.0
METHOD:PUBLISH
BEGIN:VEVENT
UID:1791588:Event:164719
DTSTAMP:20260420T130050Z
SUMMARY:Advanced OB/GYN: A Hands On Workshop
DESCRIPTION:The hands-on Advanced OB-GYN Ultrasound training course is
  taught by leading experts covering advanced topics in GYN (transabdom
 inal and endovaginal scan techniques) and OB applications. This unique
  course incorporates comprehensive lectures, case presentations, and e
 xtensive hands-on scanning, featuring a 3:1 ratio with live models and
  inanimate phantoms.\n\nFor more information visit https://community.r
 adrounds.com/events/advanced-ob-gyn-a-hands-on-workshop
DTSTART:20160729T040000Z
DTEND:20160730T035900Z
CATEGORIES:ultrasound, cme, seminar
LOCATION:Gulfcoast Ultrasound Institute, Inc.
WEBSITE:https://www.gcus.com/courses/about.asp?course=944/Advanced-OB-
 GYN:-A-Hands-On-Workshop
URL:https://www.gcus.com/courses/about.asp?course=944/Advanced-OB-GYN:
 -A-Hands-On-Workshop
CONTACT:800-619-1900
ORGANIZER;CN="Casey Green":https://community.radrounds.com/profile/Jam
 esSalame
ATTACH;FMTTYPE="image/jpeg":
ATTENDEE;ROLE=REQ-PARTICIPANT;PARTSTAT=ACCEPTED;RSVP=TRUE;CN="Casey Gr
 een":https://community.radrounds.com/profile/JamesSalame
END:VEVENT
END:VCALENDAR
