BEGIN:VCALENDAR
PRODID:NingEventWidget-v1
VERSION:2.0
METHOD:PUBLISH
BEGIN:VEVENT
UID:1791588:Event:160778
DTSTAMP:20260420T012103Z
SUMMARY:Advanced & Interventional MSK Ultrasound
DESCRIPTION:This 2-day ultrasound course includes hands-on training wi
 th live models and human cadaver specimens, for advanced interventiona
 l techniques. Topics include: (PRP - stem cell – tenotomy - post ope
 rative ultrasound evaluation – adv. spine / hip – and more). Taug
 ht by leading MSK ultrasound experts, the program includes interactive
  lectures, case presentations, and advanced MSK imaging techniques. A 
 hands-on workshop using un-embalmed human cadavers is included and wil
 l enhance skills training for ultrasound-guided interventional techniq
 ues. Extensive hands-on scanning is provided featuring a 3:1 ratio wit
 h live models is provided for a realistic training experience.\n\nFor 
 more information visit https://community.radrounds.com/events/advanced
 -interventional-msk-ultrasound
DTSTART:20150813T040000Z
DTEND:20150815T035900Z
CATEGORIES:ultrasound, cme, seminar
LOCATION:Gulfcoast Ultrasound Institute, Inc.
WEBSITE:https://www.gcus.com/courses/about.asp?course=823/Advanced-and
 -Interventional-MSK-Ultrasound
URL:https://www.gcus.com/courses/about.asp?course=823/Advanced-and-Int
 erventional-MSK-Ultrasound
CONTACT:800.619.1900
ORGANIZER;CN="Casey Green":https://community.radrounds.com/profile/Jam
 esSalame
ATTACH;FMTTYPE="image/jpeg":
ATTENDEE;ROLE=REQ-PARTICIPANT;PARTSTAT=ACCEPTED;RSVP=TRUE;CN="Casey Gr
 een":https://community.radrounds.com/profile/JamesSalame
END:VEVENT
END:VCALENDAR
