BEGIN:VCALENDAR
PRODID:NingEventWidget-v1
VERSION:2.0
METHOD:PUBLISH
BEGIN:VEVENT
UID:1791588:Event:177124
DTSTAMP:20260421T125142Z
SUMMARY:Advanced/Interventional MSK Ultrasound with Regenerative Medic
 ine Track
DESCRIPTION:This intermediate to advanced level MSK ultrasound program
  is designed to expand and update skills to integrate advanced MSK app
 lications and ultrasound-guided regenerative medicine techniques into 
 clinical practice. Taught by world-renowned ultrasound experts, the pr
 ogram offers evidence based lectures combined with extensive hands-on 
 scanning sessions featuring live models and human cadaveric specimens.
  Participants will also have the opportunity to observe live demonstra
 tions of multiple regenerative medicine procedures (diagnosis and tech
 niques) on various live patients with pathologies.\n\nFor more informa
 tion visit https://community.radrounds.com/events/advanced-interventio
 nal-msk-ultrasound-with-regenerative-medicine
DTSTART:20180222T123000Z
DTEND:20180223T213000Z
CATEGORIES:live, seminar
LOCATION:Gulfcoast Ultrasound Institute
WEBSITE:https://www.gcus.com/
URL:https://www.gcus.com/
CONTACT:7273634500
ORGANIZER:Gulfcoast Ultrasound Institute
ATTACH;FMTTYPE="image/jpeg":http://storage.ning.com/topology/rest/1.0/
 file/get/1044772923?profile=original
ATTENDEE;ROLE=REQ-PARTICIPANT;PARTSTAT=ACCEPTED;RSVP=TRUE;CN="Casey Gr
 een":https://community.radrounds.com/profile/JamesSalame
END:VEVENT
END:VCALENDAR
